BEGIN:VCALENDAR
VERSION:2.0
PRODID:-//Clermont Garden Club - ECPv6.15.18//NONSGML v1.0//EN
CALSCALE:GREGORIAN
METHOD:PUBLISH
X-WR-CALNAME:Clermont Garden Club
X-ORIGINAL-URL:https://clermontgardenclub.org
X-WR-CALDESC:Events for Clermont Garden Club
REFRESH-INTERVAL;VALUE=DURATION:PT1H
X-Robots-Tag:noindex
X-PUBLISHED-TTL:PT1H
BEGIN:VTIMEZONE
TZID:America/New_York
BEGIN:DAYLIGHT
TZOFFSETFROM:-0500
TZOFFSETTO:-0400
TZNAME:EDT
DTSTART:20230312T070000
END:DAYLIGHT
BEGIN:STANDARD
TZOFFSETFROM:-0400
TZOFFSETTO:-0500
TZNAME:EST
DTSTART:20231105T060000
END:STANDARD
BEGIN:DAYLIGHT
TZOFFSETFROM:-0500
TZOFFSETTO:-0400
TZNAME:EDT
DTSTART:20240310T070000
END:DAYLIGHT
BEGIN:STANDARD
TZOFFSETFROM:-0400
TZOFFSETTO:-0500
TZNAME:EST
DTSTART:20241103T060000
END:STANDARD
BEGIN:DAYLIGHT
TZOFFSETFROM:-0500
TZOFFSETTO:-0400
TZNAME:EDT
DTSTART:20250309T070000
END:DAYLIGHT
BEGIN:STANDARD
TZOFFSETFROM:-0400
TZOFFSETTO:-0500
TZNAME:EST
DTSTART:20251102T060000
END:STANDARD
END:VTIMEZONE
BEGIN:VEVENT
DTSTART;TZID=America/New_York:20241013T090000
DTEND;TZID=America/New_York:20241013T123000
DTSTAMP:20260424T205223
CREATED:20240808T145316Z
LAST-MODIFIED:20240808T145316Z
UID:988756-1728810000-1728822600@clermontgardenclub.org
SUMMARY:Clubhouse Reserved
DESCRIPTION:
URL:https://clermontgardenclub.org/events/clubhouse-reserved-8/
CATEGORIES:Clubhouse Reserved
END:VEVENT
BEGIN:VEVENT
DTSTART;TZID=America/New_York:20241013T150000
DTEND;TZID=America/New_York:20241013T220000
DTSTAMP:20260424T205223
CREATED:20240909T184727Z
LAST-MODIFIED:20240909T184727Z
UID:989019-1728831600-1728856800@clermontgardenclub.org
SUMMARY:Clubhouse Reserved
DESCRIPTION:
URL:https://clermontgardenclub.org/events/clubhouse-reserved-103/
CATEGORIES:Clubhouse Reserved
END:VEVENT
END:VCALENDAR