BEGIN:VCALENDAR
VERSION:2.0
PRODID:-//Clermont Garden Club - ECPv6.15.18//NONSGML v1.0//EN
CALSCALE:GREGORIAN
METHOD:PUBLISH
X-WR-CALNAME:Clermont Garden Club
X-ORIGINAL-URL:https://clermontgardenclub.org
X-WR-CALDESC:Events for Clermont Garden Club
REFRESH-INTERVAL;VALUE=DURATION:PT1H
X-Robots-Tag:noindex
X-PUBLISHED-TTL:PT1H
BEGIN:VTIMEZONE
TZID:America/New_York
BEGIN:DAYLIGHT
TZOFFSETFROM:-0500
TZOFFSETTO:-0400
TZNAME:EDT
DTSTART:20230312T070000
END:DAYLIGHT
BEGIN:STANDARD
TZOFFSETFROM:-0400
TZOFFSETTO:-0500
TZNAME:EST
DTSTART:20231105T060000
END:STANDARD
BEGIN:DAYLIGHT
TZOFFSETFROM:-0500
TZOFFSETTO:-0400
TZNAME:EDT
DTSTART:20240310T070000
END:DAYLIGHT
BEGIN:STANDARD
TZOFFSETFROM:-0400
TZOFFSETTO:-0500
TZNAME:EST
DTSTART:20241103T060000
END:STANDARD
BEGIN:DAYLIGHT
TZOFFSETFROM:-0500
TZOFFSETTO:-0400
TZNAME:EDT
DTSTART:20250309T070000
END:DAYLIGHT
BEGIN:STANDARD
TZOFFSETFROM:-0400
TZOFFSETTO:-0500
TZNAME:EST
DTSTART:20251102T060000
END:STANDARD
END:VTIMEZONE
BEGIN:VEVENT
DTSTART;TZID=America/New_York:20241122T170000
DTEND;TZID=America/New_York:20241122T210000
DTSTAMP:20260424T192003
CREATED:20240909T190852Z
LAST-MODIFIED:20240909T204912Z
UID:989053-1732294800-1732309200@clermontgardenclub.org
SUMMARY:Charcuterie Workshop
DESCRIPTION:Details coming soon! \nLearn the art of charcuterie before the holiday season begins!
URL:https://clermontgardenclub.org/events/charcuterie-workshop/
CATEGORIES:Clubhouse Reserved
END:VEVENT
END:VCALENDAR