BEGIN:VCALENDAR
VERSION:2.0
PRODID:-//Clermont Garden Club - ECPv6.15.18//NONSGML v1.0//EN
CALSCALE:GREGORIAN
METHOD:PUBLISH
X-WR-CALNAME:Clermont Garden Club
X-ORIGINAL-URL:https://clermontgardenclub.org
X-WR-CALDESC:Events for Clermont Garden Club
REFRESH-INTERVAL;VALUE=DURATION:PT1H
X-Robots-Tag:noindex
X-PUBLISHED-TTL:PT1H
BEGIN:VTIMEZONE
TZID:America/New_York
BEGIN:DAYLIGHT
TZOFFSETFROM:-0500
TZOFFSETTO:-0400
TZNAME:EDT
DTSTART:20240310T070000
END:DAYLIGHT
BEGIN:STANDARD
TZOFFSETFROM:-0400
TZOFFSETTO:-0500
TZNAME:EST
DTSTART:20241103T060000
END:STANDARD
BEGIN:DAYLIGHT
TZOFFSETFROM:-0500
TZOFFSETTO:-0400
TZNAME:EDT
DTSTART:20250309T070000
END:DAYLIGHT
BEGIN:STANDARD
TZOFFSETFROM:-0400
TZOFFSETTO:-0500
TZNAME:EST
DTSTART:20251102T060000
END:STANDARD
BEGIN:DAYLIGHT
TZOFFSETFROM:-0500
TZOFFSETTO:-0400
TZNAME:EDT
DTSTART:20260308T070000
END:DAYLIGHT
BEGIN:STANDARD
TZOFFSETFROM:-0400
TZOFFSETTO:-0500
TZNAME:EST
DTSTART:20261101T060000
END:STANDARD
END:VTIMEZONE
BEGIN:VEVENT
DTSTART;TZID=America/New_York:20250823T120000
DTEND;TZID=America/New_York:20250823T200000
DTSTAMP:20260423T141127
CREATED:20250721T152440Z
LAST-MODIFIED:20250721T152440Z
UID:989709-1755950400-1755979200@clermontgardenclub.org
SUMMARY:Clubhouse Rental
DESCRIPTION:
URL:https://clermontgardenclub.org/events/clubhouse-rental-2/
END:VEVENT
BEGIN:VEVENT
DTSTART;TZID=America/New_York:20250823T140000
DTEND;TZID=America/New_York:20250823T180000
DTSTAMP:20260423T141127
CREATED:20250723T115136Z
LAST-MODIFIED:20250723T115136Z
UID:989715-1755957600-1755972000@clermontgardenclub.org
SUMMARY:Clubhouse Rental
DESCRIPTION:Clubhouse Rental
URL:https://clermontgardenclub.org/events/clubhouse-rental-3/
END:VEVENT
BEGIN:VEVENT
DTSTART;TZID=America/New_York:20250823T140000
DTEND;TZID=America/New_York:20250823T180000
DTSTAMP:20260423T141127
CREATED:20250816T185303Z
LAST-MODIFIED:20250816T185303Z
UID:989769-1755957600-1755972000@clermontgardenclub.org
SUMMARY:Event - Clubhouse Reserved
DESCRIPTION:Clubhouse Reserved
URL:https://clermontgardenclub.org/events/event-clubhouse-reserved-2/
CATEGORIES:Clubhouse Reserved
END:VEVENT
END:VCALENDAR