BEGIN:VCALENDAR
VERSION:2.0
PRODID:-//Clermont Garden Club - ECPv6.15.18//NONSGML v1.0//EN
CALSCALE:GREGORIAN
METHOD:PUBLISH
X-WR-CALNAME:Clermont Garden Club
X-ORIGINAL-URL:https://clermontgardenclub.org
X-WR-CALDESC:Events for Clermont Garden Club
REFRESH-INTERVAL;VALUE=DURATION:PT1H
X-Robots-Tag:noindex
X-PUBLISHED-TTL:PT1H
BEGIN:VTIMEZONE
TZID:America/New_York
BEGIN:DAYLIGHT
TZOFFSETFROM:-0500
TZOFFSETTO:-0400
TZNAME:EDT
DTSTART:20240310T070000
END:DAYLIGHT
BEGIN:STANDARD
TZOFFSETFROM:-0400
TZOFFSETTO:-0500
TZNAME:EST
DTSTART:20241103T060000
END:STANDARD
BEGIN:DAYLIGHT
TZOFFSETFROM:-0500
TZOFFSETTO:-0400
TZNAME:EDT
DTSTART:20250309T070000
END:DAYLIGHT
BEGIN:STANDARD
TZOFFSETFROM:-0400
TZOFFSETTO:-0500
TZNAME:EST
DTSTART:20251102T060000
END:STANDARD
BEGIN:DAYLIGHT
TZOFFSETFROM:-0500
TZOFFSETTO:-0400
TZNAME:EDT
DTSTART:20260308T070000
END:DAYLIGHT
BEGIN:STANDARD
TZOFFSETFROM:-0400
TZOFFSETTO:-0500
TZNAME:EST
DTSTART:20261101T060000
END:STANDARD
END:VTIMEZONE
BEGIN:VEVENT
DTSTART;TZID=America/New_York:20250105T090000
DTEND;TZID=America/New_York:20250105T123000
DTSTAMP:20260423T111058
CREATED:20240808T151532Z
LAST-MODIFIED:20240808T151532Z
UID:988782-1736067600-1736080200@clermontgardenclub.org
SUMMARY:Clubhouse Reserved
DESCRIPTION:
URL:https://clermontgardenclub.org/events/clubhouse-reserved-29/
CATEGORIES:Clubhouse Reserved
END:VEVENT
BEGIN:VEVENT
DTSTART;TZID=America/New_York:20250107T073000
DTEND;TZID=America/New_York:20250107T100000
DTSTAMP:20260423T111058
CREATED:20240808T161351Z
LAST-MODIFIED:20240808T161351Z
UID:988870-1736235000-1736244000@clermontgardenclub.org
SUMMARY:Clubhouse Reserved
DESCRIPTION:
URL:https://clermontgardenclub.org/events/clubhouse-reserved-71/
CATEGORIES:Clubhouse Reserved
END:VEVENT
BEGIN:VEVENT
DTSTART;TZID=America/New_York:20250108T180000
DTEND;TZID=America/New_York:20250108T210000
DTSTAMP:20260423T111058
CREATED:20240909T212225Z
LAST-MODIFIED:20240909T212225Z
UID:989069-1736359200-1736370000@clermontgardenclub.org
SUMMARY:Clubhouse Reserved
DESCRIPTION:
URL:https://clermontgardenclub.org/events/clubhouse-reserved-122/
CATEGORIES:Clubhouse Reserved
END:VEVENT
BEGIN:VEVENT
DTSTART;TZID=America/New_York:20250112T090000
DTEND;TZID=America/New_York:20250112T123000
DTSTAMP:20260423T111058
CREATED:20240808T151627Z
LAST-MODIFIED:20240808T151627Z
UID:988784-1736672400-1736685000@clermontgardenclub.org
SUMMARY:Clubhouse Reserved
DESCRIPTION:
URL:https://clermontgardenclub.org/events/clubhouse-reserved-30/
CATEGORIES:Clubhouse Reserved
END:VEVENT
BEGIN:VEVENT
DTSTART;TZID=America/New_York:20250114T073000
DTEND;TZID=America/New_York:20250114T100000
DTSTAMP:20260423T111058
CREATED:20240808T161435Z
LAST-MODIFIED:20240808T161435Z
UID:988872-1736839800-1736848800@clermontgardenclub.org
SUMMARY:Clubhouse Reserved
DESCRIPTION:
URL:https://clermontgardenclub.org/events/clubhouse-reserved-72/
CATEGORIES:Clubhouse Reserved
END:VEVENT
BEGIN:VEVENT
DTSTART;TZID=America/New_York:20250119T090000
DTEND;TZID=America/New_York:20250119T123000
DTSTAMP:20260423T111058
CREATED:20240808T151816Z
LAST-MODIFIED:20240808T151816Z
UID:988788-1737277200-1737289800@clermontgardenclub.org
SUMMARY:Clubhouse Reserved
DESCRIPTION:
URL:https://clermontgardenclub.org/events/clubhouse-reserved-32/
CATEGORIES:Clubhouse Reserved
END:VEVENT
BEGIN:VEVENT
DTSTART;TZID=America/New_York:20250121T073000
DTEND;TZID=America/New_York:20250121T100000
DTSTAMP:20260423T111058
CREATED:20240808T161517Z
LAST-MODIFIED:20240808T161517Z
UID:988874-1737444600-1737453600@clermontgardenclub.org
SUMMARY:Clubhouse Reserved
DESCRIPTION:
URL:https://clermontgardenclub.org/events/clubhouse-reserved-73/
CATEGORIES:Clubhouse Reserved
END:VEVENT
BEGIN:VEVENT
DTSTART;TZID=America/New_York:20250122T180000
DTEND;TZID=America/New_York:20250122T210000
DTSTAMP:20260423T111058
CREATED:20240909T212819Z
LAST-MODIFIED:20240909T212819Z
UID:989073-1737568800-1737579600@clermontgardenclub.org
SUMMARY:Clubhouse Reserved
DESCRIPTION:
URL:https://clermontgardenclub.org/events/clubhouse-reserved-123/
CATEGORIES:Clubhouse Reserved
END:VEVENT
BEGIN:VEVENT
DTSTART;TZID=America/New_York:20250126T090000
DTEND;TZID=America/New_York:20250126T123000
DTSTAMP:20260423T111058
CREATED:20240808T151902Z
LAST-MODIFIED:20240808T151902Z
UID:988790-1737882000-1737894600@clermontgardenclub.org
SUMMARY:Clubhouse Reserved
DESCRIPTION:
URL:https://clermontgardenclub.org/events/clubhouse-reserved-33/
CATEGORIES:Clubhouse Reserved
END:VEVENT
BEGIN:VEVENT
DTSTART;TZID=America/New_York:20250128T073000
DTEND;TZID=America/New_York:20250128T100000
DTSTAMP:20260423T111058
CREATED:20240808T161636Z
LAST-MODIFIED:20240808T161636Z
UID:988876-1738049400-1738058400@clermontgardenclub.org
SUMMARY:Clubhouse Reserved
DESCRIPTION:
URL:https://clermontgardenclub.org/events/clubhouse-reserved-74/
CATEGORIES:Clubhouse Reserved
END:VEVENT
END:VCALENDAR