BEGIN:VCALENDAR
VERSION:2.0
PRODID:-//Clermont Garden Club - ECPv6.15.18//NONSGML v1.0//EN
CALSCALE:GREGORIAN
METHOD:PUBLISH
X-ORIGINAL-URL:https://clermontgardenclub.org
X-WR-CALDESC:Events for Clermont Garden Club
REFRESH-INTERVAL;VALUE=DURATION:PT1H
X-Robots-Tag:noindex
X-PUBLISHED-TTL:PT1H
BEGIN:VTIMEZONE
TZID:America/New_York
BEGIN:DAYLIGHT
TZOFFSETFROM:-0500
TZOFFSETTO:-0400
TZNAME:EDT
DTSTART:20230312T070000
END:DAYLIGHT
BEGIN:STANDARD
TZOFFSETFROM:-0400
TZOFFSETTO:-0500
TZNAME:EST
DTSTART:20231105T060000
END:STANDARD
BEGIN:DAYLIGHT
TZOFFSETFROM:-0500
TZOFFSETTO:-0400
TZNAME:EDT
DTSTART:20240310T070000
END:DAYLIGHT
BEGIN:STANDARD
TZOFFSETFROM:-0400
TZOFFSETTO:-0500
TZNAME:EST
DTSTART:20241103T060000
END:STANDARD
BEGIN:DAYLIGHT
TZOFFSETFROM:-0500
TZOFFSETTO:-0400
TZNAME:EDT
DTSTART:20250309T070000
END:DAYLIGHT
BEGIN:STANDARD
TZOFFSETFROM:-0400
TZOFFSETTO:-0500
TZNAME:EST
DTSTART:20251102T060000
END:STANDARD
END:VTIMEZONE
BEGIN:VEVENT
DTSTART;TZID=America/New_York:20241204T100000
DTEND;TZID=America/New_York:20241204T120000
DTSTAMP:20260423T190025
CREATED:20240523T202735Z
LAST-MODIFIED:20240523T202735Z
UID:988382-1733306400-1733313600@clermontgardenclub.org
SUMMARY:CGC Board of Directors Meeting
DESCRIPTION:
URL:https://clermontgardenclub.org/events/cgc-board-of-directors-meeting-4/
LOCATION:FL
CATEGORIES:Meeting
END:VEVENT
BEGIN:VEVENT
DTSTART;TZID=America/New_York:20241218T110000
DTEND;TZID=America/New_York:20241218T140000
DTSTAMP:20260423T190025
CREATED:20240523T204754Z
LAST-MODIFIED:20241024T195519Z
UID:988420-1734519600-1734530400@clermontgardenclub.org
SUMMARY:CGC General Meeting & Holiday Luncheon
DESCRIPTION:Short meeting followed by Holiday Luncheon at special time of 11:00AM – 2:00 PM \nBy reservation to first 48 to pay $25 due to space constraints
URL:https://clermontgardenclub.org/events/cgc-general-meeting-holiday-luncheon/
LOCATION:FL
CATEGORIES:Meeting
END:VEVENT
END:VCALENDAR