BEGIN:VCALENDAR
VERSION:2.0
PRODID:-//Clermont Garden Club - ECPv6.15.18//NONSGML v1.0//EN
CALSCALE:GREGORIAN
METHOD:PUBLISH
X-ORIGINAL-URL:https://clermontgardenclub.org
X-WR-CALDESC:Events for Clermont Garden Club
REFRESH-INTERVAL;VALUE=DURATION:PT1H
X-Robots-Tag:noindex
X-PUBLISHED-TTL:PT1H
BEGIN:VTIMEZONE
TZID:America/New_York
BEGIN:DAYLIGHT
TZOFFSETFROM:-0500
TZOFFSETTO:-0400
TZNAME:EDT
DTSTART:20240310T070000
END:DAYLIGHT
BEGIN:STANDARD
TZOFFSETFROM:-0400
TZOFFSETTO:-0500
TZNAME:EST
DTSTART:20241103T060000
END:STANDARD
BEGIN:DAYLIGHT
TZOFFSETFROM:-0500
TZOFFSETTO:-0400
TZNAME:EDT
DTSTART:20250309T070000
END:DAYLIGHT
BEGIN:STANDARD
TZOFFSETFROM:-0400
TZOFFSETTO:-0500
TZNAME:EST
DTSTART:20251102T060000
END:STANDARD
BEGIN:DAYLIGHT
TZOFFSETFROM:-0500
TZOFFSETTO:-0400
TZNAME:EDT
DTSTART:20260308T070000
END:DAYLIGHT
BEGIN:STANDARD
TZOFFSETFROM:-0400
TZOFFSETTO:-0500
TZNAME:EST
DTSTART:20261101T060000
END:STANDARD
END:VTIMEZONE
BEGIN:VEVENT
DTSTART;TZID=America/New_York:20250305T100000
DTEND;TZID=America/New_York:20250305T120000
DTSTAMP:20260423T094955
CREATED:20240523T203054Z
LAST-MODIFIED:20240523T203054Z
UID:988392-1741168800-1741176000@clermontgardenclub.org
SUMMARY:CGC Board of Directors Meeting
DESCRIPTION:
URL:https://clermontgardenclub.org/events/cgc-board-of-directors-meeting-7/
LOCATION:FL
CATEGORIES:Meeting
END:VEVENT
BEGIN:VEVENT
DTSTART;TZID=America/New_York:20250312T130000
DTEND;TZID=America/New_York:20250312T160000
DTSTAMP:20260423T094955
CREATED:20240523T233050Z
LAST-MODIFIED:20240909T213558Z
UID:988506-1741784400-1741795200@clermontgardenclub.org
SUMMARY:CGC Member Game Day 1-4 PM
DESCRIPTION:Member Event.   Event Time 1 – 4 PM \nSet up 11:30 AM
URL:https://clermontgardenclub.org/events/cgc-member-game-day-1-4-pm/
LOCATION:FL
CATEGORIES:Meeting
END:VEVENT
BEGIN:VEVENT
DTSTART;TZID=America/New_York:20250319T093000
DTEND;TZID=America/New_York:20250319T120000
DTSTAMP:20260423T094955
CREATED:20240523T205149Z
LAST-MODIFIED:20240523T205149Z
UID:988426-1742376600-1742385600@clermontgardenclub.org
SUMMARY:CGC General Meeting
DESCRIPTION:Social Time 9:30 AM \nMeeting starts promptly at 10:00 AM
URL:https://clermontgardenclub.org/events/cgc-general-meeting-6/
LOCATION:FL
CATEGORIES:Meeting
END:VEVENT
END:VCALENDAR