BEGIN:VCALENDAR
VERSION:2.0
PRODID:-//Clermont Garden Club - ECPv6.15.18//NONSGML v1.0//EN
CALSCALE:GREGORIAN
METHOD:PUBLISH
X-WR-CALNAME:Clermont Garden Club
X-ORIGINAL-URL:https://clermontgardenclub.org
X-WR-CALDESC:Events for Clermont Garden Club
REFRESH-INTERVAL;VALUE=DURATION:PT1H
X-Robots-Tag:noindex
X-PUBLISHED-TTL:PT1H
BEGIN:VTIMEZONE
TZID:America/New_York
BEGIN:DAYLIGHT
TZOFFSETFROM:-0500
TZOFFSETTO:-0400
TZNAME:EDT
DTSTART:20240310T070000
END:DAYLIGHT
BEGIN:STANDARD
TZOFFSETFROM:-0400
TZOFFSETTO:-0500
TZNAME:EST
DTSTART:20241103T060000
END:STANDARD
BEGIN:DAYLIGHT
TZOFFSETFROM:-0500
TZOFFSETTO:-0400
TZNAME:EDT
DTSTART:20250309T070000
END:DAYLIGHT
BEGIN:STANDARD
TZOFFSETFROM:-0400
TZOFFSETTO:-0500
TZNAME:EST
DTSTART:20251102T060000
END:STANDARD
BEGIN:DAYLIGHT
TZOFFSETFROM:-0500
TZOFFSETTO:-0400
TZNAME:EDT
DTSTART:20260308T070000
END:DAYLIGHT
BEGIN:STANDARD
TZOFFSETFROM:-0400
TZOFFSETTO:-0500
TZNAME:EST
DTSTART:20261101T060000
END:STANDARD
END:VTIMEZONE
BEGIN:VEVENT
DTSTART;TZID=America/New_York:20250817T130000
DTEND;TZID=America/New_York:20250817T170000
DTSTAMP:20260423T201711
CREATED:20250721T152706Z
LAST-MODIFIED:20250721T152706Z
UID:989713-1755435600-1755450000@clermontgardenclub.org
SUMMARY:Clubhouse Event
DESCRIPTION:Clubhouse Event
URL:https://clermontgardenclub.org/events/clubhouse-event-2/
END:VEVENT
BEGIN:VEVENT
DTSTART;TZID=America/New_York:20250817T123000
DTEND;TZID=America/New_York:20250817T163000
DTSTAMP:20260423T201711
CREATED:20250816T184657Z
LAST-MODIFIED:20250816T184657Z
UID:989763-1755433800-1755448200@clermontgardenclub.org
SUMMARY:Event
DESCRIPTION:
URL:https://clermontgardenclub.org/events/event-2/
END:VEVENT
BEGIN:VEVENT
DTSTART;TZID=America/New_York:20250816T170000
DTEND;TZID=America/New_York:20250816T210000
DTSTAMP:20260423T201711
CREATED:20250721T151638Z
LAST-MODIFIED:20250721T151638Z
UID:989706-1755363600-1755378000@clermontgardenclub.org
SUMMARY:Clubhouse Rental
DESCRIPTION:Clubhouse Rental
URL:https://clermontgardenclub.org/events/clubhouse-rental/
END:VEVENT
BEGIN:VEVENT
DTSTART;TZID=America/New_York:20250816T130000
DTEND;TZID=America/New_York:20250816T190000
DTSTAMP:20260423T201711
CREATED:20250816T185420Z
LAST-MODIFIED:20250816T185420Z
UID:989771-1755349200-1755370800@clermontgardenclub.org
SUMMARY:Event - Clubhouse Reserved
DESCRIPTION:Clubhouse Reserved
URL:https://clermontgardenclub.org/events/event-clubhouse-reserved-3/
CATEGORIES:Clubhouse Reserved
END:VEVENT
BEGIN:VEVENT
DTSTART;TZID=America/New_York:20250816T120000
DTEND;TZID=America/New_York:20250816T160000
DTSTAMP:20260423T201711
CREATED:20250816T184608Z
LAST-MODIFIED:20250816T184608Z
UID:989761-1755345600-1755360000@clermontgardenclub.org
SUMMARY:Event
DESCRIPTION:
URL:https://clermontgardenclub.org/events/event/
END:VEVENT
BEGIN:VEVENT
DTSTART;VALUE=DATE:20250630
DTEND;VALUE=DATE:20250712
DTSTAMP:20260423T201711
CREATED:20250604T204609Z
LAST-MODIFIED:20250604T204609Z
UID:989638-1751241600-1752278399@clermontgardenclub.org
SUMMARY:Renovations 6/30-7/11/2025
DESCRIPTION:Interior Renovations occurring over the dates of 6/30 thru 7/11/25.  No Rentals will be allowed.
URL:https://clermontgardenclub.org/events/renovations-6-30-7-11-2025/
END:VEVENT
BEGIN:VEVENT
DTSTART;TZID=America/New_York:20250525T090000
DTEND;TZID=America/New_York:20250525T123000
DTSTAMP:20260423T201711
CREATED:20240808T154536Z
LAST-MODIFIED:20240808T154536Z
UID:988826-1748163600-1748176200@clermontgardenclub.org
SUMMARY:Clubhouse Reserved
DESCRIPTION:
URL:https://clermontgardenclub.org/events/clubhouse-reserved-49/
CATEGORIES:Clubhouse Reserved
END:VEVENT
BEGIN:VEVENT
DTSTART;TZID=America/New_York:20250521T180000
DTEND;TZID=America/New_York:20250521T210000
DTSTAMP:20260423T201711
CREATED:20240909T215130Z
LAST-MODIFIED:20240909T215130Z
UID:989090-1747850400-1747861200@clermontgardenclub.org
SUMMARY:Clubhouse Reserved
DESCRIPTION:
URL:https://clermontgardenclub.org/events/clubhouse-reserved-131/
CATEGORIES:Clubhouse Reserved
END:VEVENT
BEGIN:VEVENT
DTSTART;TZID=America/New_York:20250521T103000
DTEND;TZID=America/New_York:20250521T130000
DTSTAMP:20260423T201711
CREATED:20240523T205507Z
LAST-MODIFIED:20250418T162643Z
UID:988430-1747823400-1747832400@clermontgardenclub.org
SUMMARY:CGC Annual Meeting & Luncheon 10:30-1:00
DESCRIPTION:End of Year Annual Meeting and Luncheon at special time 10:30 AM – 1:00 PM \nBy Reservation. RSVP deadline May 7 \nEvent is taking place at Legends restaurant The Local \n			\n							Purchase Tickets
URL:https://clermontgardenclub.org/events/cgc-annual-meeting-luncheon/
CATEGORIES:Event,Meeting
ATTACH;FMTTYPE=image/png:https://clermontgardenclub.org/wp-content/uploads/2024/02/545_logo_150x149.png
END:VEVENT
BEGIN:VEVENT
DTSTART;TZID=America/New_York:20250518T090000
DTEND;TZID=America/New_York:20250518T123000
DTSTAMP:20260423T201711
CREATED:20240808T154449Z
LAST-MODIFIED:20240808T154449Z
UID:988824-1747558800-1747571400@clermontgardenclub.org
SUMMARY:Clubhouse Reserved
DESCRIPTION:
URL:https://clermontgardenclub.org/events/clubhouse-reserved-48/
CATEGORIES:Clubhouse Reserved
END:VEVENT
BEGIN:VEVENT
DTSTART;TZID=America/New_York:20250511T090000
DTEND;TZID=America/New_York:20250511T123000
DTSTAMP:20260423T201711
CREATED:20240808T154357Z
LAST-MODIFIED:20240808T154357Z
UID:988822-1746954000-1746966600@clermontgardenclub.org
SUMMARY:Clubhouse Reserved
DESCRIPTION:
URL:https://clermontgardenclub.org/events/clubhouse-reserved-47/
CATEGORIES:Clubhouse Reserved
END:VEVENT
BEGIN:VEVENT
DTSTART;TZID=America/New_York:20250507T180000
DTEND;TZID=America/New_York:20250507T210000
DTSTAMP:20260423T201711
CREATED:20240909T215026Z
LAST-MODIFIED:20240909T215026Z
UID:989088-1746640800-1746651600@clermontgardenclub.org
SUMMARY:Clubhouse Reserved
DESCRIPTION:
URL:https://clermontgardenclub.org/events/clubhouse-reserved-130/
CATEGORIES:Clubhouse Reserved
END:VEVENT
BEGIN:VEVENT
DTSTART;TZID=America/New_York:20250507T100000
DTEND;TZID=America/New_York:20250507T120000
DTSTAMP:20260423T201711
CREATED:20240523T211436Z
LAST-MODIFIED:20240523T211436Z
UID:988462-1746612000-1746619200@clermontgardenclub.org
SUMMARY:CGC Board of Directors Meeting
DESCRIPTION:
URL:https://clermontgardenclub.org/events/cgc-board-of-directors-meeting-11/
CATEGORIES:Meeting
END:VEVENT
BEGIN:VEVENT
DTSTART;TZID=America/New_York:20250504T090000
DTEND;TZID=America/New_York:20250504T123000
DTSTAMP:20260423T201711
CREATED:20240808T154313Z
LAST-MODIFIED:20240808T154313Z
UID:988820-1746349200-1746361800@clermontgardenclub.org
SUMMARY:Clubhouse Reserved
DESCRIPTION:
URL:https://clermontgardenclub.org/events/clubhouse-reserved-46/
CATEGORIES:Clubhouse Reserved
END:VEVENT
BEGIN:VEVENT
DTSTART;TZID=America/New_York:20250503T090000
DTEND;TZID=America/New_York:20250503T140000
DTSTAMP:20260423T201711
CREATED:20250311T184750Z
LAST-MODIFIED:20250415T233424Z
UID:989388-1746262800-1746280800@clermontgardenclub.org
SUMMARY:2025 Spring Garden Festival
DESCRIPTION:Spring Garden Festival\n  \nVendor Packet 2025 \nQuestions? Contact Cindy Simon \n Purchase Vendor Booth Space  \n Purchase Food Trucks Space
URL:https://clermontgardenclub.org/events/2025-spring-garden-festival/
LOCATION:Clermont Garden Club\, 849 West Ave\, Clermont\, FL\, 34711\, United States
CATEGORIES:Event
ATTACH;FMTTYPE=image/jpeg:https://clermontgardenclub.org/wp-content/uploads/2024/02/SGF_2023_832x502_A.jpg
ORGANIZER;CN="Cindy Simon":MAILTO:clermontgardenclubinc@gmail.com
END:VEVENT
BEGIN:VEVENT
DTSTART;VALUE=DATE:20250502
DTEND;VALUE=DATE:20250503
DTSTAMP:20260423T201711
CREATED:20240524T003931Z
LAST-MODIFIED:20240524T003931Z
UID:988518-1746144000-1746230399@clermontgardenclub.org
SUMMARY:Set Up Spring Garden Festival
DESCRIPTION:CGC members set up clubhouse and grounds for Spring Garden Festival 5/3
URL:https://clermontgardenclub.org/events/set-up-spring-garden-festival/
CATEGORIES:Meeting
END:VEVENT
BEGIN:VEVENT
DTSTART;TZID=America/New_York:20250429T073000
DTEND;TZID=America/New_York:20250429T100000
DTSTAMP:20260423T201711
CREATED:20240808T171044Z
LAST-MODIFIED:20240808T171044Z
UID:988902-1745911800-1745920800@clermontgardenclub.org
SUMMARY:Clubhouse Reserved
DESCRIPTION:
URL:https://clermontgardenclub.org/events/clubhouse-reserved-87/
CATEGORIES:Clubhouse Reserved
END:VEVENT
BEGIN:VEVENT
DTSTART;TZID=America/New_York:20250427T090000
DTEND;TZID=America/New_York:20250427T123000
DTSTAMP:20260423T201711
CREATED:20240808T154125Z
LAST-MODIFIED:20240808T154125Z
UID:988818-1745744400-1745757000@clermontgardenclub.org
SUMMARY:Clubhouse Reserved
DESCRIPTION:
URL:https://clermontgardenclub.org/events/clubhouse-reserved-45/
CATEGORIES:Clubhouse Reserved
END:VEVENT
BEGIN:VEVENT
DTSTART;TZID=America/New_York:20250422T073000
DTEND;TZID=America/New_York:20250422T100000
DTSTAMP:20260423T201711
CREATED:20240808T170947Z
LAST-MODIFIED:20240808T170947Z
UID:988900-1745307000-1745316000@clermontgardenclub.org
SUMMARY:Clubhouse Reserved
DESCRIPTION:
URL:https://clermontgardenclub.org/events/clubhouse-reserved-86/
CATEGORIES:Clubhouse Reserved
END:VEVENT
BEGIN:VEVENT
DTSTART;TZID=America/New_York:20250420T090000
DTEND;TZID=America/New_York:20250420T123000
DTSTAMP:20260423T201711
CREATED:20240808T154034Z
LAST-MODIFIED:20240808T154034Z
UID:988816-1745139600-1745152200@clermontgardenclub.org
SUMMARY:Clubhouse Reserved
DESCRIPTION:
URL:https://clermontgardenclub.org/events/clubhouse-reserved-44/
CATEGORIES:Clubhouse Reserved
END:VEVENT
BEGIN:VEVENT
DTSTART;TZID=America/New_York:20250416T180000
DTEND;TZID=America/New_York:20250416T210000
DTSTAMP:20260423T201711
CREATED:20240909T214914Z
LAST-MODIFIED:20240909T214914Z
UID:989086-1744826400-1744837200@clermontgardenclub.org
SUMMARY:Clubhouse Reserved
DESCRIPTION:
URL:https://clermontgardenclub.org/events/clubhouse-reserved-129/
CATEGORIES:Clubhouse Reserved
END:VEVENT
BEGIN:VEVENT
DTSTART;TZID=America/New_York:20250416T093000
DTEND;TZID=America/New_York:20250416T120000
DTSTAMP:20260423T201711
CREATED:20240523T205243Z
LAST-MODIFIED:20240523T205243Z
UID:988428-1744795800-1744804800@clermontgardenclub.org
SUMMARY:CGC General Meeting
DESCRIPTION:Social Time 9:30 AM \nMeeting starts promptly at 10:00 AM
URL:https://clermontgardenclub.org/events/cgc-general-meeting-7/
CATEGORIES:Meeting
END:VEVENT
BEGIN:VEVENT
DTSTART;TZID=America/New_York:20250415T073000
DTEND;TZID=America/New_York:20250415T100000
DTSTAMP:20260423T201711
CREATED:20240808T170829Z
LAST-MODIFIED:20240808T170829Z
UID:988898-1744702200-1744711200@clermontgardenclub.org
SUMMARY:Clubhouse Reserved
DESCRIPTION:
URL:https://clermontgardenclub.org/events/clubhouse-reserved-85/
CATEGORIES:Clubhouse Reserved
END:VEVENT
BEGIN:VEVENT
DTSTART;TZID=America/New_York:20250413T090000
DTEND;TZID=America/New_York:20250413T123000
DTSTAMP:20260423T201711
CREATED:20240808T153951Z
LAST-MODIFIED:20240808T153951Z
UID:988814-1744534800-1744547400@clermontgardenclub.org
SUMMARY:Clubhouse Reserved
DESCRIPTION:
URL:https://clermontgardenclub.org/events/clubhouse-reserved-43/
CATEGORIES:Clubhouse Reserved
END:VEVENT
BEGIN:VEVENT
DTSTART;TZID=America/New_York:20250412T090000
DTEND;TZID=America/New_York:20250412T140000
DTSTAMP:20260423T201711
CREATED:20240524T005230Z
LAST-MODIFIED:20250404T195540Z
UID:988536-1744448400-1744466400@clermontgardenclub.org
SUMMARY:Garden Walk! Behind the Garden Gate
DESCRIPTION:  \nTicketed Event. $20 per person in advance. $25 per person day of event. \n9am-2pm. \nBegin at the Garden Club – Exchange your ticket for a wristband and program with the location of homes where garden tours are available \nEnter Drawings for baskets and unique items.  Purchase caladium bulbs. Wander the club grounds for more landscaping inspiration. \n  \n Purchase Tickets
URL:https://clermontgardenclub.org/events/garden-walk-2/
CATEGORIES:Event
ATTACH;FMTTYPE=image/png:https://clermontgardenclub.org/wp-content/uploads/2024/05/Behind-the-Garden-Gate-Flyer.png
END:VEVENT
BEGIN:VEVENT
DTSTART;VALUE=DATE:20250411
DTEND;VALUE=DATE:20250412
DTSTAMP:20260423T201711
CREATED:20240523T212705Z
LAST-MODIFIED:20240907T202447Z
UID:988473-1744329600-1744415999@clermontgardenclub.org
SUMMARY:Garden Walk Set Up
DESCRIPTION:CGC members prepare for the Garden Walk on Saturday\, 10/26
URL:https://clermontgardenclub.org/events/garden-walk-set-up/
CATEGORIES:Meeting
END:VEVENT
BEGIN:VEVENT
DTSTART;TZID=America/New_York:20250408T073000
DTEND;TZID=America/New_York:20250408T100000
DTSTAMP:20260423T201711
CREATED:20240808T171221Z
LAST-MODIFIED:20240808T171221Z
UID:988904-1744097400-1744106400@clermontgardenclub.org
SUMMARY:Clubhouse Reserved
DESCRIPTION:
URL:https://clermontgardenclub.org/events/clubhouse-reserved-88/
CATEGORIES:Clubhouse Reserved
END:VEVENT
BEGIN:VEVENT
DTSTART;TZID=America/New_York:20250406T090000
DTEND;TZID=America/New_York:20250406T123000
DTSTAMP:20260423T201711
CREATED:20240808T153905Z
LAST-MODIFIED:20240808T153905Z
UID:988812-1743930000-1743942600@clermontgardenclub.org
SUMMARY:Clubhouse Reserved
DESCRIPTION:
URL:https://clermontgardenclub.org/events/clubhouse-reserved-42/
CATEGORIES:Clubhouse Reserved
END:VEVENT
BEGIN:VEVENT
DTSTART;TZID=America/New_York:20250402T180000
DTEND;TZID=America/New_York:20250402T210000
DTSTAMP:20260423T201711
CREATED:20240909T214807Z
LAST-MODIFIED:20240909T214807Z
UID:989084-1743616800-1743627600@clermontgardenclub.org
SUMMARY:Clubhouse Reserved
DESCRIPTION:
URL:https://clermontgardenclub.org/events/clubhouse-reserved-128/
CATEGORIES:Clubhouse Reserved
END:VEVENT
BEGIN:VEVENT
DTSTART;TZID=America/New_York:20250402T100000
DTEND;TZID=America/New_York:20250402T120000
DTSTAMP:20260423T201711
CREATED:20240523T203754Z
LAST-MODIFIED:20240523T203754Z
UID:988405-1743588000-1743595200@clermontgardenclub.org
SUMMARY:CGC Board of Directors Meeting
DESCRIPTION:
URL:https://clermontgardenclub.org/events/cgc-board-of-directors-meeting-9/
CATEGORIES:Meeting
END:VEVENT
END:VCALENDAR