BEGIN:VCALENDAR
VERSION:2.0
PRODID:-//Clermont Garden Club - ECPv6.15.18//NONSGML v1.0//EN
CALSCALE:GREGORIAN
METHOD:PUBLISH
X-WR-CALNAME:Clermont Garden Club
X-ORIGINAL-URL:https://clermontgardenclub.org
X-WR-CALDESC:Events for Clermont Garden Club
REFRESH-INTERVAL;VALUE=DURATION:PT1H
X-Robots-Tag:noindex
X-PUBLISHED-TTL:PT1H
BEGIN:VTIMEZONE
TZID:America/New_York
BEGIN:DAYLIGHT
TZOFFSETFROM:-0500
TZOFFSETTO:-0400
TZNAME:EDT
DTSTART:20240310T070000
END:DAYLIGHT
BEGIN:STANDARD
TZOFFSETFROM:-0400
TZOFFSETTO:-0500
TZNAME:EST
DTSTART:20241103T060000
END:STANDARD
BEGIN:DAYLIGHT
TZOFFSETFROM:-0500
TZOFFSETTO:-0400
TZNAME:EDT
DTSTART:20250309T070000
END:DAYLIGHT
BEGIN:STANDARD
TZOFFSETFROM:-0400
TZOFFSETTO:-0500
TZNAME:EST
DTSTART:20251102T060000
END:STANDARD
BEGIN:DAYLIGHT
TZOFFSETFROM:-0500
TZOFFSETTO:-0400
TZNAME:EDT
DTSTART:20260308T070000
END:DAYLIGHT
BEGIN:STANDARD
TZOFFSETFROM:-0400
TZOFFSETTO:-0500
TZNAME:EST
DTSTART:20261101T060000
END:STANDARD
BEGIN:DAYLIGHT
TZOFFSETFROM:-0500
TZOFFSETTO:-0400
TZNAME:EDT
DTSTART:20270314T070000
END:DAYLIGHT
BEGIN:STANDARD
TZOFFSETFROM:-0400
TZOFFSETTO:-0500
TZNAME:EST
DTSTART:20271107T060000
END:STANDARD
END:VTIMEZONE
BEGIN:VEVENT
DTSTART;TZID=America/New_York:20260126T090000
DTEND;TZID=America/New_York:20260126T120000
DTSTAMP:20260423T014902
CREATED:20250912T171608Z
LAST-MODIFIED:20250912T171608Z
UID:990017-1769418000-1769428800@clermontgardenclub.org
SUMMARY:CGC Garden Work Day
DESCRIPTION:
URL:https://clermontgardenclub.org/events/cgc-garden-work-day-11/
END:VEVENT
BEGIN:VEVENT
DTSTART;TZID=America/New_York:20260123T180000
DTEND;TZID=America/New_York:20260123T220000
DTSTAMP:20260423T014902
CREATED:20250914T160604Z
LAST-MODIFIED:20250914T160605Z
UID:990122-1769191200-1769205600@clermontgardenclub.org
SUMMARY:Clubhouse Reserved
DESCRIPTION:Clubhouse Reserved
URL:https://clermontgardenclub.org/events/clubhouse-reserved-208/
CATEGORIES:Clubhouse Reserved
END:VEVENT
BEGIN:VEVENT
DTSTART;TZID=America/New_York:20260121T173000
DTEND;TZID=America/New_York:20260121T203000
DTSTAMP:20260423T014902
CREATED:20250914T160515Z
LAST-MODIFIED:20250914T160515Z
UID:990120-1769016600-1769027400@clermontgardenclub.org
SUMMARY:Clubhouse Reserved
DESCRIPTION:Clubhouse Reserved
URL:https://clermontgardenclub.org/events/clubhouse-reserved-207/
CATEGORIES:Clubhouse Reserved
END:VEVENT
BEGIN:VEVENT
DTSTART;TZID=America/New_York:20260121T090000
DTEND;TZID=America/New_York:20260121T120000
DTSTAMP:20260423T014902
CREATED:20250912T163442Z
LAST-MODIFIED:20250912T164922Z
UID:989975-1768986000-1768996800@clermontgardenclub.org
SUMMARY:CGC General Meeting
DESCRIPTION:Social Time 9:30 AM \nMeeting starts promptly at 10:00 AM \nTheme: Blues\, white
URL:https://clermontgardenclub.org/events/cgc-general-meeting-12/
LOCATION:Clermont Garden Club\, 849 West Ave\, Clermont\, FL\, 34711\, United States
CATEGORIES:Meeting
END:VEVENT
BEGIN:VEVENT
DTSTART;TZID=America/New_York:20260120T073000
DTEND;TZID=America/New_York:20260120T100000
DTSTAMP:20260423T014902
CREATED:20250912T155554Z
LAST-MODIFIED:20250912T155612Z
UID:989891-1768894200-1768903200@clermontgardenclub.org
SUMMARY:Clubhouse Reserved
DESCRIPTION:Clubhouse Reserved
URL:https://clermontgardenclub.org/events/clubhouse-reserved-149/
CATEGORIES:Clubhouse Reserved
END:VEVENT
BEGIN:VEVENT
DTSTART;TZID=America/New_York:20260117T140000
DTEND;TZID=America/New_York:20260117T200000
DTSTAMP:20260423T014902
CREATED:20251009T145430Z
LAST-MODIFIED:20251009T145430Z
UID:990211-1768658400-1768680000@clermontgardenclub.org
SUMMARY:Clubhouse Reserved
DESCRIPTION:Clubhouse Reserved.
URL:https://clermontgardenclub.org/events/clubhouse-reserved-224/
CATEGORIES:Clubhouse Reserved
END:VEVENT
BEGIN:VEVENT
DTSTART;TZID=America/New_York:20260113T073000
DTEND;TZID=America/New_York:20260113T100000
DTSTAMP:20260423T014902
CREATED:20250912T160051Z
LAST-MODIFIED:20250912T160051Z
UID:989896-1768289400-1768298400@clermontgardenclub.org
SUMMARY:Clubhouse Reserved
DESCRIPTION:Clubhouse Reserved
URL:https://clermontgardenclub.org/events/clubhouse-reserved-151/
CATEGORIES:Clubhouse Reserved
END:VEVENT
BEGIN:VEVENT
DTSTART;TZID=America/New_York:20260112T090000
DTEND;TZID=America/New_York:20260112T120000
DTSTAMP:20260423T014902
CREATED:20250912T171454Z
LAST-MODIFIED:20250912T171454Z
UID:990015-1768208400-1768219200@clermontgardenclub.org
SUMMARY:CGC Garden Work Day
DESCRIPTION:
URL:https://clermontgardenclub.org/events/cgc-garden-work-day-10/
END:VEVENT
BEGIN:VEVENT
DTSTART;TZID=America/New_York:20260107T173000
DTEND;TZID=America/New_York:20260107T203000
DTSTAMP:20260423T014902
CREATED:20250914T160416Z
LAST-MODIFIED:20250914T160416Z
UID:990118-1767807000-1767817800@clermontgardenclub.org
SUMMARY:Clubhouse Reserved
DESCRIPTION:Clubhouse Reserved
URL:https://clermontgardenclub.org/events/clubhouse-reserved-206/
CATEGORIES:Clubhouse Reserved
END:VEVENT
BEGIN:VEVENT
DTSTART;TZID=America/New_York:20260107T100000
DTEND;TZID=America/New_York:20260107T120000
DTSTAMP:20260423T014902
CREATED:20250912T162409Z
LAST-MODIFIED:20250912T162441Z
UID:989956-1767780000-1767787200@clermontgardenclub.org
SUMMARY:CGC Board of Directors Meeting
DESCRIPTION:
URL:https://clermontgardenclub.org/events/cgc-board-of-directors-meeting-15/
LOCATION:Clermont Garden Club\, 849 West Ave\, Clermont\, FL\, 34711\, United States
CATEGORIES:Meeting
END:VEVENT
BEGIN:VEVENT
DTSTART;TZID=America/New_York:20260106T073000
DTEND;TZID=America/New_York:20260106T100000
DTSTAMP:20260423T014902
CREATED:20250912T155528Z
LAST-MODIFIED:20250912T155528Z
UID:989889-1767684600-1767693600@clermontgardenclub.org
SUMMARY:Clubhouse Reserved
DESCRIPTION:Clubhouse Reserved
URL:https://clermontgardenclub.org/events/clubhouse-reserved-148/
CATEGORIES:Clubhouse Reserved
END:VEVENT
BEGIN:VEVENT
DTSTART;TZID=America/New_York:20260103T140000
DTEND;TZID=America/New_York:20260103T200000
DTSTAMP:20260423T014902
CREATED:20250914T160322Z
LAST-MODIFIED:20250914T160322Z
UID:990116-1767448800-1767470400@clermontgardenclub.org
SUMMARY:Clubhouse Reserved
DESCRIPTION:Clubhouse Reserved
URL:https://clermontgardenclub.org/events/clubhouse-reserved-205/
CATEGORIES:Clubhouse Reserved
END:VEVENT
BEGIN:VEVENT
DTSTART;TZID=America/New_York:20251230T073000
DTEND;TZID=America/New_York:20251230T100000
DTSTAMP:20260423T014902
CREATED:20250912T155452Z
LAST-MODIFIED:20250912T155452Z
UID:989887-1767079800-1767088800@clermontgardenclub.org
SUMMARY:Clubhouse Reserved
DESCRIPTION:Clubhouse Reserved
URL:https://clermontgardenclub.org/events/clubhouse-reserved-147/
CATEGORIES:Clubhouse Reserved
END:VEVENT
BEGIN:VEVENT
DTSTART;TZID=America/New_York:20251223T073000
DTEND;TZID=America/New_York:20251223T100000
DTSTAMP:20260423T014902
CREATED:20250912T155420Z
LAST-MODIFIED:20250912T155420Z
UID:989885-1766475000-1766484000@clermontgardenclub.org
SUMMARY:Clubhouse Reserved
DESCRIPTION:Clubhouse Reserved
URL:https://clermontgardenclub.org/events/clubhouse-reserved-146/
CATEGORIES:Clubhouse Reserved
END:VEVENT
BEGIN:VEVENT
DTSTART;TZID=America/New_York:20251222T090000
DTEND;TZID=America/New_York:20251222T120000
DTSTAMP:20260423T014902
CREATED:20250912T171422Z
LAST-MODIFIED:20250912T171422Z
UID:990013-1766394000-1766404800@clermontgardenclub.org
SUMMARY:CGC Garden Work Day
DESCRIPTION:
URL:https://clermontgardenclub.org/events/cgc-garden-work-day-9/
END:VEVENT
BEGIN:VEVENT
DTSTART;TZID=America/New_York:20251220T180000
DTEND;TZID=America/New_York:20251220T230000
DTSTAMP:20260423T014902
CREATED:20250914T160240Z
LAST-MODIFIED:20250914T160240Z
UID:990114-1766253600-1766271600@clermontgardenclub.org
SUMMARY:Clubhouse Reserved
DESCRIPTION:Clubhouse Reserved
URL:https://clermontgardenclub.org/events/clubhouse-reserved-204/
CATEGORIES:Clubhouse Reserved
END:VEVENT
BEGIN:VEVENT
DTSTART;TZID=America/New_York:20251220T130000
DTEND;TZID=America/New_York:20251220T170000
DTSTAMP:20260423T014902
CREATED:20250914T160210Z
LAST-MODIFIED:20250914T160210Z
UID:990112-1766235600-1766250000@clermontgardenclub.org
SUMMARY:Clubhouse Reserved
DESCRIPTION:Clubhouse Reserved
URL:https://clermontgardenclub.org/events/clubhouse-reserved-203/
CATEGORIES:Clubhouse Reserved
END:VEVENT
BEGIN:VEVENT
DTSTART;TZID=America/New_York:20251217T173000
DTEND;TZID=America/New_York:20251217T203000
DTSTAMP:20260423T014902
CREATED:20250914T155632Z
LAST-MODIFIED:20250914T155632Z
UID:990107-1765992600-1766003400@clermontgardenclub.org
SUMMARY:Clubhouse Reserved
DESCRIPTION:Clubhouse Reserved.
URL:https://clermontgardenclub.org/events/clubhouse-reserved-202/
CATEGORIES:Clubhouse Reserved
END:VEVENT
BEGIN:VEVENT
DTSTART;TZID=America/New_York:20251217T090000
DTEND;TZID=America/New_York:20251217T120000
DTSTAMP:20260423T014902
CREATED:20250912T163233Z
LAST-MODIFIED:20250912T165006Z
UID:989971-1765962000-1765972800@clermontgardenclub.org
SUMMARY:CGC Holiday Luncheon
DESCRIPTION:Social Time 9:30 AM \nMeeting starts promptly at 10:00 AM \nRSVP Required \nTheme: Red and green – Christmas sweaters!
URL:https://clermontgardenclub.org/events/cgc-holiday-luncheon/
LOCATION:Clermont Garden Club\, 849 West Ave\, Clermont\, FL\, 34711\, United States
CATEGORIES:Meeting
END:VEVENT
BEGIN:VEVENT
DTSTART;TZID=America/New_York:20251216T073000
DTEND;TZID=America/New_York:20251216T100000
DTSTAMP:20260423T014902
CREATED:20250912T155348Z
LAST-MODIFIED:20250912T155348Z
UID:989883-1765870200-1765879200@clermontgardenclub.org
SUMMARY:Clubhouse Reserved
DESCRIPTION:Clubhouse Reserved
URL:https://clermontgardenclub.org/events/clubhouse-reserved-145/
CATEGORIES:Clubhouse Reserved
END:VEVENT
BEGIN:VEVENT
DTSTART;TZID=America/New_York:20251214T120000
DTEND;TZID=America/New_York:20251214T160000
DTSTAMP:20260423T014902
CREATED:20250914T155556Z
LAST-MODIFIED:20250914T155556Z
UID:990105-1765713600-1765728000@clermontgardenclub.org
SUMMARY:Clubhouse Reserved
DESCRIPTION:Clubhouse Reserved.
URL:https://clermontgardenclub.org/events/clubhouse-reserved-201/
CATEGORIES:Clubhouse Reserved
END:VEVENT
BEGIN:VEVENT
DTSTART;TZID=America/New_York:20251213T160000
DTEND;TZID=America/New_York:20251213T200000
DTSTAMP:20260423T014902
CREATED:20250914T155511Z
LAST-MODIFIED:20250914T155511Z
UID:990103-1765641600-1765656000@clermontgardenclub.org
SUMMARY:Clubhouse Reserved
DESCRIPTION:Clubhouse Reserved.
URL:https://clermontgardenclub.org/events/clubhouse-reserved-200/
CATEGORIES:Clubhouse Reserved
END:VEVENT
BEGIN:VEVENT
DTSTART;TZID=America/New_York:20251209T073000
DTEND;TZID=America/New_York:20251209T100000
DTSTAMP:20260423T014902
CREATED:20250912T155323Z
LAST-MODIFIED:20250912T155323Z
UID:989881-1765265400-1765274400@clermontgardenclub.org
SUMMARY:Clubhouse Reserved
DESCRIPTION:Clubhouse Reserved
URL:https://clermontgardenclub.org/events/clubhouse-reserved-144/
CATEGORIES:Clubhouse Reserved
END:VEVENT
BEGIN:VEVENT
DTSTART;TZID=America/New_York:20251208T090000
DTEND;TZID=America/New_York:20251208T120000
DTSTAMP:20260423T014902
CREATED:20250912T171329Z
LAST-MODIFIED:20250912T171329Z
UID:990011-1765184400-1765195200@clermontgardenclub.org
SUMMARY:CGC Garden Work Day
DESCRIPTION:
URL:https://clermontgardenclub.org/events/cgc-garden-work-day-8/
END:VEVENT
BEGIN:VEVENT
DTSTART;TZID=America/New_York:20251206T160000
DTEND;TZID=America/New_York:20251206T200000
DTSTAMP:20260423T014902
CREATED:20250914T155428Z
LAST-MODIFIED:20250914T155428Z
UID:990101-1765036800-1765051200@clermontgardenclub.org
SUMMARY:Clubhouse Reserved
DESCRIPTION:Clubhouse Reserved.
URL:https://clermontgardenclub.org/events/clubhouse-reserved-199/
CATEGORIES:Clubhouse Reserved
END:VEVENT
BEGIN:VEVENT
DTSTART;TZID=America/New_York:20251203T173000
DTEND;TZID=America/New_York:20251203T203000
DTSTAMP:20260423T014902
CREATED:20250914T155333Z
LAST-MODIFIED:20250914T155333Z
UID:990099-1764783000-1764793800@clermontgardenclub.org
SUMMARY:Clubhouse Reserved
DESCRIPTION:Clubhouse Reserved.
URL:https://clermontgardenclub.org/events/clubhouse-reserved-198/
CATEGORIES:Clubhouse Reserved
END:VEVENT
BEGIN:VEVENT
DTSTART;TZID=America/New_York:20251203T100000
DTEND;TZID=America/New_York:20251203T120000
DTSTAMP:20260423T014902
CREATED:20250912T162243Z
LAST-MODIFIED:20250912T162243Z
UID:989954-1764756000-1764763200@clermontgardenclub.org
SUMMARY:CGC Board of Directors Meeting
DESCRIPTION:
URL:https://clermontgardenclub.org/events/cgc-board-of-directors-meeting-14/
LOCATION:Clermont Garden Club\, 849 West Ave\, Clermont\, FL\, 34711\, United States
CATEGORIES:Meeting
END:VEVENT
BEGIN:VEVENT
DTSTART;TZID=America/New_York:20251202T073000
DTEND;TZID=America/New_York:20251202T100000
DTSTAMP:20260423T014902
CREATED:20250912T155050Z
LAST-MODIFIED:20250912T155050Z
UID:989879-1764660600-1764669600@clermontgardenclub.org
SUMMARY:Clubhouse Reserved
DESCRIPTION:Clubhouse Reserved
URL:https://clermontgardenclub.org/events/clubhouse-reserved-143/
CATEGORIES:Clubhouse Reserved
END:VEVENT
BEGIN:VEVENT
DTSTART;TZID=America/New_York:20251127T163000
DTEND;TZID=America/New_York:20251127T203000
DTSTAMP:20260423T014902
CREATED:20251009T144804Z
LAST-MODIFIED:20251009T144804Z
UID:990207-1764261000-1764275400@clermontgardenclub.org
SUMMARY:Clubhouse Reserved
DESCRIPTION:Clubhouse Reserved
URL:https://clermontgardenclub.org/events/clubhouse-reserved-222/
CATEGORIES:Clubhouse Reserved
END:VEVENT
BEGIN:VEVENT
DTSTART;TZID=America/New_York:20251125T073000
DTEND;TZID=America/New_York:20251125T100000
DTSTAMP:20260423T014902
CREATED:20250912T154953Z
LAST-MODIFIED:20250912T154953Z
UID:989877-1764055800-1764064800@clermontgardenclub.org
SUMMARY:Clubhouse Reserved
DESCRIPTION:Clubhouse Reserved
URL:https://clermontgardenclub.org/events/clubhouse-reserved-142/
CATEGORIES:Clubhouse Reserved
END:VEVENT
END:VCALENDAR