BEGIN:VCALENDAR
VERSION:2.0
PRODID:-//Clermont Garden Club - ECPv6.15.18//NONSGML v1.0//EN
CALSCALE:GREGORIAN
METHOD:PUBLISH
X-WR-CALNAME:Clermont Garden Club
X-ORIGINAL-URL:https://clermontgardenclub.org
X-WR-CALDESC:Events for Clermont Garden Club
REFRESH-INTERVAL;VALUE=DURATION:PT1H
X-Robots-Tag:noindex
X-PUBLISHED-TTL:PT1H
BEGIN:VTIMEZONE
TZID:America/New_York
BEGIN:DAYLIGHT
TZOFFSETFROM:-0500
TZOFFSETTO:-0400
TZNAME:EDT
DTSTART:20250309T070000
END:DAYLIGHT
BEGIN:STANDARD
TZOFFSETFROM:-0400
TZOFFSETTO:-0500
TZNAME:EST
DTSTART:20251102T060000
END:STANDARD
BEGIN:DAYLIGHT
TZOFFSETFROM:-0500
TZOFFSETTO:-0400
TZNAME:EDT
DTSTART:20260308T070000
END:DAYLIGHT
BEGIN:STANDARD
TZOFFSETFROM:-0400
TZOFFSETTO:-0500
TZNAME:EST
DTSTART:20261101T060000
END:STANDARD
BEGIN:DAYLIGHT
TZOFFSETFROM:-0500
TZOFFSETTO:-0400
TZNAME:EDT
DTSTART:20270314T070000
END:DAYLIGHT
BEGIN:STANDARD
TZOFFSETFROM:-0400
TZOFFSETTO:-0500
TZNAME:EST
DTSTART:20271107T060000
END:STANDARD
END:VTIMEZONE
BEGIN:VEVENT
DTSTART;TZID=America/New_York:20260506T173000
DTEND;TZID=America/New_York:20260506T203000
DTSTAMP:20260421T175317
CREATED:20250914T163807Z
LAST-MODIFIED:20250914T163807Z
UID:990156-1778088600-1778099400@clermontgardenclub.org
SUMMARY:Clubhouse Reserved
DESCRIPTION:Clubhouse Reserved.
URL:https://clermontgardenclub.org/events/clubhouse-reserved-217/
CATEGORIES:Clubhouse Reserved
END:VEVENT
BEGIN:VEVENT
DTSTART;TZID=America/New_York:20260509T160000
DTEND;TZID=America/New_York:20260509T200000
DTSTAMP:20260421T175317
CREATED:20260413T174127Z
LAST-MODIFIED:20260413T174127Z
UID:990890-1778342400-1778356800@clermontgardenclub.org
SUMMARY:Clubhouse Reserved
DESCRIPTION:
URL:https://clermontgardenclub.org/events/clubhouse-reserved-241/
END:VEVENT
BEGIN:VEVENT
DTSTART;TZID=America/New_York:20260511T090000
DTEND;TZID=America/New_York:20260511T120000
DTSTAMP:20260421T175317
CREATED:20250912T172033Z
LAST-MODIFIED:20250912T172033Z
UID:990033-1778490000-1778500800@clermontgardenclub.org
SUMMARY:CGC Garden Work Day
DESCRIPTION:
URL:https://clermontgardenclub.org/events/cgc-garden-work-day-19/
END:VEVENT
BEGIN:VEVENT
DTSTART;TZID=America/New_York:20260512T073000
DTEND;TZID=America/New_York:20260512T100000
DTSTAMP:20260421T175317
CREATED:20250912T161144Z
LAST-MODIFIED:20250912T161144Z
UID:989928-1778571000-1778580000@clermontgardenclub.org
SUMMARY:Clubhouse Reserved
DESCRIPTION:Clubhouse Reserved
URL:https://clermontgardenclub.org/events/clubhouse-reserved-167/
CATEGORIES:Clubhouse Reserved
END:VEVENT
BEGIN:VEVENT
DTSTART;TZID=America/New_York:20260516T100000
DTEND;TZID=America/New_York:20260516T123000
DTSTAMP:20260421T175317
CREATED:20260203T154006Z
LAST-MODIFIED:20260216T184644Z
UID:990723-1778925600-1778934600@clermontgardenclub.org
SUMMARY:Create a Kokedama - Fun with Flowers Workshop
DESCRIPTION:Back by popular demand!  Join us for a fun-filled day of creativity and greenery at our Create a Kokedama event! Kokedama\, meaning “moss ball” in Japanese\, is a unique and trendy way to display plants. Whether you’re a seasoned gardener or just starting out\, this hands-on workshop is perfect for everyone. Plants and other supplies provided. Wear comfortable clothes – you are handling soil and wet moss and might get messy!\nQuestions? Contact Cindy Simon\, clermontgardenclubinc@gmail.com\n			\n							Get Tickets
URL:https://clermontgardenclub.org/events/create-a-kokedama-fun-with-flowers-workshop-2/
CATEGORIES:Workshop
ATTACH;FMTTYPE=image/png:https://clermontgardenclub.org/wp-content/uploads/2024/01/kokedama.png
END:VEVENT
BEGIN:VEVENT
DTSTART;TZID=America/New_York:20260516T130000
DTEND;TZID=America/New_York:20260516T230000
DTSTAMP:20260421T175317
CREATED:20260420T234802Z
LAST-MODIFIED:20260420T234802Z
UID:990911-1778936400-1778972400@clermontgardenclub.org
SUMMARY:Clubhouse Reserved
DESCRIPTION:
URL:https://clermontgardenclub.org/events/clubhouse-reserved-242/
END:VEVENT
BEGIN:VEVENT
DTSTART;TZID=America/New_York:20260517T140000
DTEND;TZID=America/New_York:20260517T200000
DTSTAMP:20260421T175317
CREATED:20260421T000333Z
LAST-MODIFIED:20260421T000333Z
UID:990920-1779026400-1779048000@clermontgardenclub.org
SUMMARY:Clubhouse Reserved
DESCRIPTION:
URL:https://clermontgardenclub.org/events/clubhouse-reserved-246/
END:VEVENT
BEGIN:VEVENT
DTSTART;TZID=America/New_York:20260519T073000
DTEND;TZID=America/New_York:20260519T100000
DTSTAMP:20260421T175317
CREATED:20250912T161212Z
LAST-MODIFIED:20250912T161212Z
UID:989930-1779175800-1779184800@clermontgardenclub.org
SUMMARY:Clubhouse Reserved
DESCRIPTION:Clubhouse Reserved
URL:https://clermontgardenclub.org/events/clubhouse-reserved-168/
CATEGORIES:Clubhouse Reserved
END:VEVENT
BEGIN:VEVENT
DTSTART;TZID=America/New_York:20260520T090000
DTEND;TZID=America/New_York:20260520T120000
DTSTAMP:20260421T175317
CREATED:20250912T163707Z
LAST-MODIFIED:20250912T165409Z
UID:989981-1779267600-1779278400@clermontgardenclub.org
SUMMARY:CGC End of Program Year Luncheon
DESCRIPTION:Social Time 9:30 AM \nMeeting starts promptly at 10:00 AM \nRSVP Required! \nTheme: \nWear whatever color you want to celebrate the end of the \nClub Year.
URL:https://clermontgardenclub.org/events/cgc-end-of-program-year-luncheon/
LOCATION:Clermont Garden Club\, 849 West Ave\, Clermont\, FL\, 34711\, United States
CATEGORIES:Meeting
END:VEVENT
BEGIN:VEVENT
DTSTART;TZID=America/New_York:20260520T173000
DTEND;TZID=America/New_York:20260520T203000
DTSTAMP:20260421T175317
CREATED:20250914T163836Z
LAST-MODIFIED:20250914T163836Z
UID:990158-1779298200-1779309000@clermontgardenclub.org
SUMMARY:Clubhouse Reserved
DESCRIPTION:Clubhouse Reserved.
URL:https://clermontgardenclub.org/events/clubhouse-reserved-218/
CATEGORIES:Clubhouse Reserved
END:VEVENT
BEGIN:VEVENT
DTSTART;TZID=America/New_York:20260523T090000
DTEND;TZID=America/New_York:20260523T180000
DTSTAMP:20260421T175317
CREATED:20260406T191851Z
LAST-MODIFIED:20260406T191851Z
UID:990876-1779526800-1779559200@clermontgardenclub.org
SUMMARY:Clubhouse Reserved
DESCRIPTION:
URL:https://clermontgardenclub.org/events/clubhouse-reserved-238/
END:VEVENT
BEGIN:VEVENT
DTSTART;TZID=America/New_York:20260525T090000
DTEND;TZID=America/New_York:20260525T120000
DTSTAMP:20260421T175317
CREATED:20250912T172104Z
LAST-MODIFIED:20250912T172104Z
UID:990035-1779699600-1779710400@clermontgardenclub.org
SUMMARY:CGC Garden Work Day
DESCRIPTION:
URL:https://clermontgardenclub.org/events/cgc-garden-work-day-20/
END:VEVENT
BEGIN:VEVENT
DTSTART;TZID=America/New_York:20260526T073000
DTEND;TZID=America/New_York:20260526T100000
DTSTAMP:20260421T175317
CREATED:20250912T161245Z
LAST-MODIFIED:20250912T161245Z
UID:989932-1779780600-1779789600@clermontgardenclub.org
SUMMARY:Clubhouse Reserved
DESCRIPTION:Clubhouse Reserved
URL:https://clermontgardenclub.org/events/clubhouse-reserved-169/
CATEGORIES:Clubhouse Reserved
END:VEVENT
BEGIN:VEVENT
DTSTART;TZID=America/New_York:20260529T080000
DTEND;TZID=America/New_York:20260529T123000
DTSTAMP:20260421T175317
CREATED:20260406T192052Z
LAST-MODIFIED:20260406T192052Z
UID:990878-1780041600-1780057800@clermontgardenclub.org
SUMMARY:Clubhouse Reserved
DESCRIPTION:
URL:https://clermontgardenclub.org/events/clubhouse-reserved-239/
END:VEVENT
BEGIN:VEVENT
DTSTART;TZID=America/New_York:20260602T073000
DTEND;TZID=America/New_York:20260602T100000
DTSTAMP:20260421T175317
CREATED:20250912T161323Z
LAST-MODIFIED:20250912T161323Z
UID:989934-1780385400-1780394400@clermontgardenclub.org
SUMMARY:Clubhouse Reserved
DESCRIPTION:Clubhouse Reserved
URL:https://clermontgardenclub.org/events/clubhouse-reserved-170/
CATEGORIES:Clubhouse Reserved
END:VEVENT
BEGIN:VEVENT
DTSTART;TZID=America/New_York:20260609T073000
DTEND;TZID=America/New_York:20260609T100000
DTSTAMP:20260421T175317
CREATED:20250912T161350Z
LAST-MODIFIED:20250912T161350Z
UID:989936-1780990200-1780999200@clermontgardenclub.org
SUMMARY:Clubhouse Reserved
DESCRIPTION:Clubhouse Reserved
URL:https://clermontgardenclub.org/events/clubhouse-reserved-171/
CATEGORIES:Clubhouse Reserved
END:VEVENT
BEGIN:VEVENT
DTSTART;TZID=America/New_York:20260616T073000
DTEND;TZID=America/New_York:20260616T100000
DTSTAMP:20260421T175317
CREATED:20250912T161421Z
LAST-MODIFIED:20250912T161421Z
UID:989938-1781595000-1781604000@clermontgardenclub.org
SUMMARY:Clubhouse Reserved
DESCRIPTION:Clubhouse Reserved
URL:https://clermontgardenclub.org/events/clubhouse-reserved-172/
CATEGORIES:Clubhouse Reserved
END:VEVENT
BEGIN:VEVENT
DTSTART;TZID=America/New_York:20260620T080000
DTEND;TZID=America/New_York:20260620T170000
DTSTAMP:20260421T175317
CREATED:20260406T192256Z
LAST-MODIFIED:20260406T192256Z
UID:990880-1781942400-1781974800@clermontgardenclub.org
SUMMARY:Clubhouse Reserved
DESCRIPTION:
URL:https://clermontgardenclub.org/events/clubhouse-reserved-240/
END:VEVENT
BEGIN:VEVENT
DTSTART;TZID=America/New_York:20260620T100000
DTEND;TZID=America/New_York:20260620T160000
DTSTAMP:20260421T175317
CREATED:20260420T235717Z
LAST-MODIFIED:20260420T235717Z
UID:990915-1781949600-1781971200@clermontgardenclub.org
SUMMARY:Clubhouse Reserved
DESCRIPTION:
URL:https://clermontgardenclub.org/events/clubhouse-reserved-244/
END:VEVENT
BEGIN:VEVENT
DTSTART;TZID=America/New_York:20260623T073000
DTEND;TZID=America/New_York:20260623T100000
DTSTAMP:20260421T175317
CREATED:20250912T161446Z
LAST-MODIFIED:20250912T161446Z
UID:989940-1782199800-1782208800@clermontgardenclub.org
SUMMARY:Clubhouse Reserved
DESCRIPTION:Clubhouse Reserved
URL:https://clermontgardenclub.org/events/clubhouse-reserved-173/
CATEGORIES:Clubhouse Reserved
END:VEVENT
BEGIN:VEVENT
DTSTART;TZID=America/New_York:20260627T140000
DTEND;TZID=America/New_York:20260627T210000
DTSTAMP:20260421T175317
CREATED:20260406T174941Z
LAST-MODIFIED:20260406T174941Z
UID:990853-1782568800-1782594000@clermontgardenclub.org
SUMMARY:Clubhouse Reserved
DESCRIPTION:
URL:https://clermontgardenclub.org/events/clubhouse-reserved-228/
END:VEVENT
BEGIN:VEVENT
DTSTART;TZID=America/New_York:20260627T140000
DTEND;TZID=America/New_York:20260627T210000
DTSTAMP:20260421T175317
CREATED:20260420T235852Z
LAST-MODIFIED:20260420T235852Z
UID:990917-1782568800-1782594000@clermontgardenclub.org
SUMMARY:Clubhouse Reserved
DESCRIPTION:
URL:https://clermontgardenclub.org/events/clubhouse-reserved-245/
END:VEVENT
BEGIN:VEVENT
DTSTART;TZID=America/New_York:20260630T073000
DTEND;TZID=America/New_York:20260630T100000
DTSTAMP:20260421T175317
CREATED:20250912T161520Z
LAST-MODIFIED:20250912T161520Z
UID:989942-1782804600-1782813600@clermontgardenclub.org
SUMMARY:Clubhouse Reserved
DESCRIPTION:Clubhouse Reserved
URL:https://clermontgardenclub.org/events/clubhouse-reserved-174/
CATEGORIES:Clubhouse Reserved
END:VEVENT
BEGIN:VEVENT
DTSTART;TZID=America/New_York:20260711T120000
DTEND;TZID=America/New_York:20260711T180000
DTSTAMP:20260421T175317
CREATED:20260406T175122Z
LAST-MODIFIED:20260406T175122Z
UID:990855-1783771200-1783792800@clermontgardenclub.org
SUMMARY:Clubhouse Reserved
DESCRIPTION:
URL:https://clermontgardenclub.org/events/clubhouse-reserved-229/
END:VEVENT
BEGIN:VEVENT
DTSTART;TZID=America/New_York:20260725T120000
DTEND;TZID=America/New_York:20260725T160000
DTSTAMP:20260421T175317
CREATED:20260406T155955Z
LAST-MODIFIED:20260406T165540Z
UID:990849-1784980800-1784995200@clermontgardenclub.org
SUMMARY:Clubhouse Reserved
DESCRIPTION:
URL:https://clermontgardenclub.org/events/clubhouse-reserved-175/
END:VEVENT
BEGIN:VEVENT
DTSTART;TZID=America/New_York:20260829T083000
DTEND;TZID=America/New_York:20260829T160000
DTSTAMP:20260421T175317
CREATED:20260406T170117Z
LAST-MODIFIED:20260406T170344Z
UID:990851-1787992200-1788019200@clermontgardenclub.org
SUMMARY:Clubhouse Reserved
DESCRIPTION:
URL:https://clermontgardenclub.org/events/clubhouse-reserved-227/
END:VEVENT
BEGIN:VEVENT
DTSTART;TZID=America/New_York:20260926T090000
DTEND;TZID=America/New_York:20260926T170000
DTSTAMP:20260421T175317
CREATED:20260406T181214Z
LAST-MODIFIED:20260406T181328Z
UID:990859-1790413200-1790442000@clermontgardenclub.org
SUMMARY:Clubhouse Reserved
DESCRIPTION:
URL:https://clermontgardenclub.org/events/clubhouse-reserved-230/
END:VEVENT
BEGIN:VEVENT
DTSTART;TZID=America/New_York:20261009T160000
DTEND;TZID=America/New_York:20261009T230000
DTSTAMP:20260421T175317
CREATED:20260406T181519Z
LAST-MODIFIED:20260406T181519Z
UID:990861-1791561600-1791586800@clermontgardenclub.org
SUMMARY:Clubhouse Reserved
DESCRIPTION:
URL:https://clermontgardenclub.org/events/clubhouse-reserved-231/
END:VEVENT
BEGIN:VEVENT
DTSTART;TZID=America/New_York:20261017T140000
DTEND;TZID=America/New_York:20261017T200000
DTSTAMP:20260421T175317
CREATED:20260406T181847Z
LAST-MODIFIED:20260406T181847Z
UID:990863-1792245600-1792267200@clermontgardenclub.org
SUMMARY:Clubhouse Reserved
DESCRIPTION:
URL:https://clermontgardenclub.org/events/clubhouse-reserved-232/
END:VEVENT
END:VCALENDAR