BEGIN:VCALENDAR
VERSION:2.0
PRODID:-//Clermont Garden Club - ECPv6.15.18//NONSGML v1.0//EN
CALSCALE:GREGORIAN
METHOD:PUBLISH
X-ORIGINAL-URL:https://clermontgardenclub.org
X-WR-CALDESC:Events for Clermont Garden Club
REFRESH-INTERVAL;VALUE=DURATION:PT1H
X-Robots-Tag:noindex
X-PUBLISHED-TTL:PT1H
BEGIN:VTIMEZONE
TZID:America/New_York
BEGIN:DAYLIGHT
TZOFFSETFROM:-0500
TZOFFSETTO:-0400
TZNAME:EDT
DTSTART:20240310T070000
END:DAYLIGHT
BEGIN:STANDARD
TZOFFSETFROM:-0400
TZOFFSETTO:-0500
TZNAME:EST
DTSTART:20241103T060000
END:STANDARD
BEGIN:DAYLIGHT
TZOFFSETFROM:-0500
TZOFFSETTO:-0400
TZNAME:EDT
DTSTART:20250309T070000
END:DAYLIGHT
BEGIN:STANDARD
TZOFFSETFROM:-0400
TZOFFSETTO:-0500
TZNAME:EST
DTSTART:20251102T060000
END:STANDARD
BEGIN:DAYLIGHT
TZOFFSETFROM:-0500
TZOFFSETTO:-0400
TZNAME:EDT
DTSTART:20260308T070000
END:DAYLIGHT
BEGIN:STANDARD
TZOFFSETFROM:-0400
TZOFFSETTO:-0500
TZNAME:EST
DTSTART:20261101T060000
END:STANDARD
END:VTIMEZONE
BEGIN:VEVENT
DTSTART;TZID=America/New_York:20250922T090000
DTEND;TZID=America/New_York:20250922T120000
DTSTAMP:20260423T171411
CREATED:20250912T165745Z
LAST-MODIFIED:20250912T165745Z
UID:989997-1758531600-1758542400@clermontgardenclub.org
SUMMARY:CGC Garden Work Day
DESCRIPTION:
URL:https://clermontgardenclub.org/events/cgc-garden-work-day/
END:VEVENT
BEGIN:VEVENT
DTSTART;TZID=America/New_York:20250923T073000
DTEND;TZID=America/New_York:20250923T100000
DTSTAMP:20260423T171411
CREATED:20250912T154527Z
LAST-MODIFIED:20250912T154527Z
UID:989861-1758612600-1758621600@clermontgardenclub.org
SUMMARY:Clubhouse Reserved
DESCRIPTION:Clubhouse Reserved
URL:https://clermontgardenclub.org/events/clubhouse-reserved-134/
CATEGORIES:Clubhouse Reserved
END:VEVENT
BEGIN:VEVENT
DTSTART;TZID=America/New_York:20250927T120000
DTEND;TZID=America/New_York:20250927T160000
DTSTAMP:20260423T171411
CREATED:20250912T172812Z
LAST-MODIFIED:20250912T172812Z
UID:990045-1758974400-1758988800@clermontgardenclub.org
SUMMARY:Clubhouse Reserved
DESCRIPTION:Clubhouse Reserved
URL:https://clermontgardenclub.org/events/clubhouse-reserved-180/
CATEGORIES:Clubhouse Reserved
END:VEVENT
BEGIN:VEVENT
DTSTART;TZID=America/New_York:20250927T170000
DTEND;TZID=America/New_York:20250927T203000
DTSTAMP:20260423T171411
CREATED:20250926T145357Z
LAST-MODIFIED:20250926T145357Z
UID:990189-1758992400-1759005000@clermontgardenclub.org
SUMMARY:Clubhouse Reserved
DESCRIPTION:Clubhouse Reserved
URL:https://clermontgardenclub.org/events/clubhouse-reserved-221/
CATEGORIES:Clubhouse Reserved
END:VEVENT
BEGIN:VEVENT
DTSTART;TZID=America/New_York:20250930T073000
DTEND;TZID=America/New_York:20250930T100000
DTSTAMP:20260423T171411
CREATED:20250912T154555Z
LAST-MODIFIED:20250912T154555Z
UID:989863-1759217400-1759226400@clermontgardenclub.org
SUMMARY:Clubhouse Reserved
DESCRIPTION:Clubhouse Reserved
URL:https://clermontgardenclub.org/events/clubhouse-reserved-135/
CATEGORIES:Clubhouse Reserved
END:VEVENT
BEGIN:VEVENT
DTSTART;TZID=America/New_York:20251001T100000
DTEND;TZID=America/New_York:20251001T120000
DTSTAMP:20260423T171411
CREATED:20250912T162147Z
LAST-MODIFIED:20250912T162147Z
UID:989946-1759312800-1759320000@clermontgardenclub.org
SUMMARY:CGC Board of Directors Meeting
DESCRIPTION:
URL:https://clermontgardenclub.org/events/cgc-board-of-directors-meeting-12/
LOCATION:Clermont Garden Club\, 849 West Ave\, Clermont\, FL\, 34711\, United States
CATEGORIES:Meeting
END:VEVENT
BEGIN:VEVENT
DTSTART;TZID=America/New_York:20251001T173000
DTEND;TZID=America/New_York:20251001T203000
DTSTAMP:20260423T171411
CREATED:20250912T173141Z
LAST-MODIFIED:20250912T173141Z
UID:990049-1759339800-1759350600@clermontgardenclub.org
SUMMARY:Clubhouse Reserved
DESCRIPTION:Clubhouse Reserved
URL:https://clermontgardenclub.org/events/clubhouse-reserved-182/
CATEGORIES:Clubhouse Reserved
END:VEVENT
BEGIN:VEVENT
DTSTART;TZID=America/New_York:20251004T090000
DTEND;TZID=America/New_York:20251004T130000
DTSTAMP:20260423T171411
CREATED:20250912T173052Z
LAST-MODIFIED:20250912T173052Z
UID:990047-1759568400-1759582800@clermontgardenclub.org
SUMMARY:Clubhouse Reserved
DESCRIPTION:Clubhouse Reserved
URL:https://clermontgardenclub.org/events/clubhouse-reserved-181/
CATEGORIES:Clubhouse Reserved
END:VEVENT
BEGIN:VEVENT
DTSTART;TZID=America/New_York:20251004T170000
DTEND;TZID=America/New_York:20251004T210000
DTSTAMP:20260423T171411
CREATED:20250912T173232Z
LAST-MODIFIED:20250912T173232Z
UID:990051-1759597200-1759611600@clermontgardenclub.org
SUMMARY:Clubhouse Reserved
DESCRIPTION:Clubhouse Reserved
URL:https://clermontgardenclub.org/events/clubhouse-reserved-183/
CATEGORIES:Clubhouse Reserved
END:VEVENT
BEGIN:VEVENT
DTSTART;TZID=America/New_York:20251005T120000
DTEND;TZID=America/New_York:20251005T170000
DTSTAMP:20260423T171411
CREATED:20250912T173332Z
LAST-MODIFIED:20250912T173332Z
UID:990053-1759665600-1759683600@clermontgardenclub.org
SUMMARY:Clubhouse Reserved
DESCRIPTION:Clubhouse Reserved
URL:https://clermontgardenclub.org/events/clubhouse-reserved-184/
CATEGORIES:Clubhouse Reserved
END:VEVENT
BEGIN:VEVENT
DTSTART;TZID=America/New_York:20251007T073000
DTEND;TZID=America/New_York:20251007T100000
DTSTAMP:20260423T171411
CREATED:20250912T154632Z
LAST-MODIFIED:20250912T154632Z
UID:989865-1759822200-1759831200@clermontgardenclub.org
SUMMARY:Clubhouse Reserved
DESCRIPTION:Clubhouse Reserved
URL:https://clermontgardenclub.org/events/clubhouse-reserved-136/
CATEGORIES:Clubhouse Reserved
END:VEVENT
BEGIN:VEVENT
DTSTART;TZID=America/New_York:20251011T103000
DTEND;TZID=America/New_York:20251011T133000
DTSTAMP:20260423T171411
CREATED:20250912T173458Z
LAST-MODIFIED:20250912T173550Z
UID:990055-1760178600-1760189400@clermontgardenclub.org
SUMMARY:Clubhouse Reserved
DESCRIPTION:Clubhouse Reserved
URL:https://clermontgardenclub.org/events/clubhouse-reserved-185/
CATEGORIES:Clubhouse Reserved
END:VEVENT
BEGIN:VEVENT
DTSTART;TZID=America/New_York:20251011T150000
DTEND;TZID=America/New_York:20251011T180000
DTSTAMP:20260423T171411
CREATED:20250912T173626Z
LAST-MODIFIED:20250912T173626Z
UID:990057-1760194800-1760205600@clermontgardenclub.org
SUMMARY:Clubhouse Reserved
DESCRIPTION:Clubhouse Reserved
URL:https://clermontgardenclub.org/events/clubhouse-reserved-186/
CATEGORIES:Clubhouse Reserved
END:VEVENT
BEGIN:VEVENT
DTSTART;TZID=America/New_York:20251012T100000
DTEND;TZID=America/New_York:20251012T140000
DTSTAMP:20260423T171411
CREATED:20250912T173714Z
LAST-MODIFIED:20250912T173714Z
UID:990059-1760263200-1760277600@clermontgardenclub.org
SUMMARY:Clubhouse Reserved
DESCRIPTION:Clubhouse Reserved
URL:https://clermontgardenclub.org/events/clubhouse-reserved-187/
CATEGORIES:Clubhouse Reserved
END:VEVENT
BEGIN:VEVENT
DTSTART;TZID=America/New_York:20251013T090000
DTEND;TZID=America/New_York:20251013T120000
DTSTAMP:20260423T171411
CREATED:20250912T165839Z
LAST-MODIFIED:20250912T165839Z
UID:990001-1760346000-1760356800@clermontgardenclub.org
SUMMARY:CGC Garden Work Day
DESCRIPTION:
URL:https://clermontgardenclub.org/events/cgc-garden-work-day-3/
END:VEVENT
BEGIN:VEVENT
DTSTART;TZID=America/New_York:20251014T073000
DTEND;TZID=America/New_York:20251014T100000
DTSTAMP:20260423T171411
CREATED:20250912T155940Z
LAST-MODIFIED:20250912T155940Z
UID:989894-1760427000-1760436000@clermontgardenclub.org
SUMMARY:Clubhouse Reserved
DESCRIPTION:Clubhouse Reserved
URL:https://clermontgardenclub.org/events/clubhouse-reserved-150/
CATEGORIES:Clubhouse Reserved
END:VEVENT
BEGIN:VEVENT
DTSTART;TZID=America/New_York:20251015T090000
DTEND;TZID=America/New_York:20251015T120000
DTSTAMP:20260423T171411
CREATED:20250912T163057Z
LAST-MODIFIED:20250912T164708Z
UID:989967-1760518800-1760529600@clermontgardenclub.org
SUMMARY:CGC General Meeting
DESCRIPTION:Social Time 9:30 AM \nMeeting starts promptly at 10:00 AM \nTheme: Orange\, black\, purple – Halloween colors of course!
URL:https://clermontgardenclub.org/events/cgc-general-meeting-9/
LOCATION:Clermont Garden Club\, 849 West Ave\, Clermont\, FL\, 34711\, United States
CATEGORIES:Meeting
END:VEVENT
BEGIN:VEVENT
DTSTART;TZID=America/New_York:20251015T173000
DTEND;TZID=America/New_York:20251015T203000
DTSTAMP:20260423T171411
CREATED:20250912T175243Z
LAST-MODIFIED:20250912T175243Z
UID:990070-1760549400-1760560200@clermontgardenclub.org
SUMMARY:Clubhouse Reserved
DESCRIPTION:Clubhouse Reserved.
URL:https://clermontgardenclub.org/events/clubhouse-reserved-189/
CATEGORIES:Clubhouse Reserved
END:VEVENT
BEGIN:VEVENT
DTSTART;TZID=America/New_York:20251018T170000
DTEND;TZID=America/New_York:20251018T210000
DTSTAMP:20260423T171412
CREATED:20250912T175200Z
LAST-MODIFIED:20250912T175200Z
UID:990068-1760806800-1760821200@clermontgardenclub.org
SUMMARY:Clubhouse Reserved
DESCRIPTION:Clubhouse Reserved.
URL:https://clermontgardenclub.org/events/clubhouse-reserved-188/
CATEGORIES:Clubhouse Reserved
END:VEVENT
BEGIN:VEVENT
DTSTART;TZID=America/New_York:20251019T080000
DTEND;TZID=America/New_York:20251019T140000
DTSTAMP:20260423T171412
CREATED:20250912T175410Z
LAST-MODIFIED:20250912T175410Z
UID:990072-1760860800-1760882400@clermontgardenclub.org
SUMMARY:Clubhouse Reserved
DESCRIPTION:Clubhouse Reserved.
URL:https://clermontgardenclub.org/events/clubhouse-reserved-190/
CATEGORIES:Clubhouse Reserved
END:VEVENT
BEGIN:VEVENT
DTSTART;TZID=America/New_York:20251020T120000
DTEND;TZID=America/New_York:20251020T150000
DTSTAMP:20260423T171412
CREATED:20251009T144123Z
LAST-MODIFIED:20251009T144234Z
UID:990205-1760961600-1760972400@clermontgardenclub.org
SUMMARY:Art Stroll Meeting
DESCRIPTION:
URL:https://clermontgardenclub.org/events/art-stroll-meeting/
END:VEVENT
BEGIN:VEVENT
DTSTART;TZID=America/New_York:20251021T073000
DTEND;TZID=America/New_York:20251021T100000
DTSTAMP:20260423T171412
CREATED:20250912T154659Z
LAST-MODIFIED:20250912T154720Z
UID:989867-1761031800-1761040800@clermontgardenclub.org
SUMMARY:Clubhouse Reserved
DESCRIPTION:Clubhouse Reserved
URL:https://clermontgardenclub.org/events/clubhouse-reserved-137/
CATEGORIES:Clubhouse Reserved
END:VEVENT
BEGIN:VEVENT
DTSTART;TZID=America/New_York:20251024T090000
DTEND;TZID=America/New_York:20251024T133000
DTSTAMP:20260423T171412
CREATED:20250912T175501Z
LAST-MODIFIED:20250912T175501Z
UID:990074-1761296400-1761312600@clermontgardenclub.org
SUMMARY:Clubhouse Reserved
DESCRIPTION:Clubhouse Reserved.
URL:https://clermontgardenclub.org/events/clubhouse-reserved-191/
CATEGORIES:Clubhouse Reserved
END:VEVENT
BEGIN:VEVENT
DTSTART;TZID=America/New_York:20251025T120000
DTEND;TZID=America/New_York:20251025T200000
DTSTAMP:20260423T171412
CREATED:20250723T115343Z
LAST-MODIFIED:20250723T115343Z
UID:989717-1761393600-1761422400@clermontgardenclub.org
SUMMARY:Clubhouse Rental
DESCRIPTION:Clubhouse Rental
URL:https://clermontgardenclub.org/events/clubhouse-rental-4/
END:VEVENT
BEGIN:VEVENT
DTSTART;TZID=America/New_York:20251026T070000
DTEND;TZID=America/New_York:20251026T150000
DTSTAMP:20260423T171412
CREATED:20250926T150332Z
LAST-MODIFIED:20250926T150332Z
UID:990191-1761462000-1761490800@clermontgardenclub.org
SUMMARY:Clubhouse Reserved
DESCRIPTION:Clubhouse Reserved
URL:https://clermontgardenclub.org/events/clubhouse-reserved-192/
CATEGORIES:Clubhouse Reserved
END:VEVENT
BEGIN:VEVENT
DTSTART;TZID=America/New_York:20251026T150000
DTEND;TZID=America/New_York:20251026T230000
DTSTAMP:20260423T171412
CREATED:20250912T175709Z
LAST-MODIFIED:20250912T175709Z
UID:990078-1761490800-1761519600@clermontgardenclub.org
SUMMARY:Clubhouse Reserved
DESCRIPTION:Clubhouse Reserved.
URL:https://clermontgardenclub.org/events/clubhouse-reserved-193/
CATEGORIES:Clubhouse Reserved
END:VEVENT
BEGIN:VEVENT
DTSTART;TZID=America/New_York:20251027T090000
DTEND;TZID=America/New_York:20251027T120000
DTSTAMP:20260423T171412
CREATED:20250912T165920Z
LAST-MODIFIED:20250912T165920Z
UID:990003-1761555600-1761566400@clermontgardenclub.org
SUMMARY:CGC Garden Work Day
DESCRIPTION:
URL:https://clermontgardenclub.org/events/cgc-garden-work-day-4/
END:VEVENT
BEGIN:VEVENT
DTSTART;TZID=America/New_York:20251028T073000
DTEND;TZID=America/New_York:20251028T100000
DTSTAMP:20260423T171412
CREATED:20250912T154748Z
LAST-MODIFIED:20250912T154748Z
UID:989869-1761636600-1761645600@clermontgardenclub.org
SUMMARY:Clubhouse Reserved
DESCRIPTION:Clubhouse Reserved
URL:https://clermontgardenclub.org/events/clubhouse-reserved-138/
CATEGORIES:Clubhouse Reserved
END:VEVENT
BEGIN:VEVENT
DTSTART;TZID=America/New_York:20251031T120000
DTEND;TZID=America/New_York:20251031T230000
DTSTAMP:20260423T171412
CREATED:20250912T175805Z
LAST-MODIFIED:20250912T175805Z
UID:990080-1761912000-1761951600@clermontgardenclub.org
SUMMARY:Clubhouse Reserved
DESCRIPTION:Clubhouse Reserved.
URL:https://clermontgardenclub.org/events/clubhouse-reserved-194/
CATEGORIES:Clubhouse Reserved
END:VEVENT
BEGIN:VEVENT
DTSTART;TZID=America/New_York:20251101T090000
DTEND;TZID=America/New_York:20251101T130000
DTSTAMP:20260423T171412
CREATED:20250914T154154Z
LAST-MODIFIED:20250926T150644Z
UID:990084-1761987600-1762002000@clermontgardenclub.org
SUMMARY:Clubhouse Reserved
DESCRIPTION:Clubhouse Reserved.
URL:https://clermontgardenclub.org/events/clubhouse-reserved-195/
CATEGORIES:Clubhouse Reserved
END:VEVENT
END:VCALENDAR