BEGIN:VCALENDAR
VERSION:2.0
PRODID:-//Clermont Garden Club - ECPv6.15.18//NONSGML v1.0//EN
CALSCALE:GREGORIAN
METHOD:PUBLISH
X-ORIGINAL-URL:https://clermontgardenclub.org
X-WR-CALDESC:Events for Clermont Garden Club
REFRESH-INTERVAL;VALUE=DURATION:PT1H
X-Robots-Tag:noindex
X-PUBLISHED-TTL:PT1H
BEGIN:VTIMEZONE
TZID:America/New_York
BEGIN:DAYLIGHT
TZOFFSETFROM:-0500
TZOFFSETTO:-0400
TZNAME:EDT
DTSTART:20250309T070000
END:DAYLIGHT
BEGIN:STANDARD
TZOFFSETFROM:-0400
TZOFFSETTO:-0500
TZNAME:EST
DTSTART:20251102T060000
END:STANDARD
BEGIN:DAYLIGHT
TZOFFSETFROM:-0500
TZOFFSETTO:-0400
TZNAME:EDT
DTSTART:20260308T070000
END:DAYLIGHT
BEGIN:STANDARD
TZOFFSETFROM:-0400
TZOFFSETTO:-0500
TZNAME:EST
DTSTART:20261101T060000
END:STANDARD
BEGIN:DAYLIGHT
TZOFFSETFROM:-0500
TZOFFSETTO:-0400
TZNAME:EDT
DTSTART:20270314T070000
END:DAYLIGHT
BEGIN:STANDARD
TZOFFSETFROM:-0400
TZOFFSETTO:-0500
TZNAME:EST
DTSTART:20271107T060000
END:STANDARD
END:VTIMEZONE
BEGIN:VEVENT
DTSTART;TZID=America/New_York:20260310T073000
DTEND;TZID=America/New_York:20260310T100000
DTSTAMP:20260423T050214
CREATED:20250912T160556Z
LAST-MODIFIED:20250912T160556Z
UID:989910-1773127800-1773136800@clermontgardenclub.org
SUMMARY:Clubhouse Reserved
DESCRIPTION:Clubhouse Reserved
URL:https://clermontgardenclub.org/events/clubhouse-reserved-158/
CATEGORIES:Clubhouse Reserved
END:VEVENT
BEGIN:VEVENT
DTSTART;TZID=America/New_York:20260311T173000
DTEND;TZID=America/New_York:20260311T203000
DTSTAMP:20260423T050214
CREATED:20250914T162559Z
LAST-MODIFIED:20250914T162559Z
UID:990139-1773250200-1773261000@clermontgardenclub.org
SUMMARY:Clubhouse Reserved
DESCRIPTION:Clubhouse Reserved
URL:https://clermontgardenclub.org/events/clubhouse-reserved-212/
CATEGORIES:Clubhouse Reserved
END:VEVENT
BEGIN:VEVENT
DTSTART;TZID=America/New_York:20260314T100000
DTEND;TZID=America/New_York:20260314T120000
DTSTAMP:20260423T050214
CREATED:20250914T162751Z
LAST-MODIFIED:20260217T160519Z
UID:990142-1773482400-1773489600@clermontgardenclub.org
SUMMARY:Fun with Flowers: Tipsy Pot Container Garden
DESCRIPTION:  \nThe picture gives you the idea of the project\, but ours will be a table container garden with two “tipsy” pots over two lower levels.  Join this instructor led workshop as you build your layers with pots and end with the “tipsy” pots.  Containers\, soil\, and plants provided.  Bring garden gloves and wear comfortable “gardening” clothes. \nThis workshop will be held 10:00am – Noon at the Clermont Garden Club\, 849 West Ave\, Clermont\, FL 34711. Please arrive on time. \n  \n  \n			\n							Get Tickets
URL:https://clermontgardenclub.org/events/fun-with-flowers-tipsy-pot-container-garden/
LOCATION:Clermont Garden Club\, 849 West Ave\, Clermont\, FL\, 34711\, United States
CATEGORIES:Workshop
ATTACH;FMTTYPE=image/jpeg:https://clermontgardenclub.org/wp-content/uploads/2025/09/tipsy-pots.jpg
END:VEVENT
BEGIN:VEVENT
DTSTART;TZID=America/New_York:20260317T073000
DTEND;TZID=America/New_York:20260317T100000
DTSTAMP:20260423T050214
CREATED:20250912T160621Z
LAST-MODIFIED:20250912T160621Z
UID:989912-1773732600-1773741600@clermontgardenclub.org
SUMMARY:Clubhouse Reserved
DESCRIPTION:Clubhouse Reserved
URL:https://clermontgardenclub.org/events/clubhouse-reserved-159/
CATEGORIES:Clubhouse Reserved
END:VEVENT
BEGIN:VEVENT
DTSTART;TZID=America/New_York:20260318T090000
DTEND;TZID=America/New_York:20260318T120000
DTSTAMP:20260423T050214
CREATED:20250912T163529Z
LAST-MODIFIED:20250912T165209Z
UID:989977-1773824400-1773835200@clermontgardenclub.org
SUMMARY:CGC General Meeting
DESCRIPTION:Social Time 9:30 AM \nMeeting starts promptly at 10:00 AM \nTheme: Green for St Patrick’s Day
URL:https://clermontgardenclub.org/events/cgc-general-meeting-13/
LOCATION:Clermont Garden Club\, 849 West Ave\, Clermont\, FL\, 34711\, United States
CATEGORIES:Meeting
END:VEVENT
BEGIN:VEVENT
DTSTART;TZID=America/New_York:20260323T090000
DTEND;TZID=America/New_York:20260323T120000
DTSTAMP:20260423T050214
CREATED:20250912T171852Z
LAST-MODIFIED:20250912T171852Z
UID:990027-1774256400-1774267200@clermontgardenclub.org
SUMMARY:CGC Garden Work Day
DESCRIPTION:
URL:https://clermontgardenclub.org/events/cgc-garden-work-day-16/
END:VEVENT
BEGIN:VEVENT
DTSTART;TZID=America/New_York:20260324T073000
DTEND;TZID=America/New_York:20260324T100000
DTSTAMP:20260423T050214
CREATED:20250912T160655Z
LAST-MODIFIED:20250912T160655Z
UID:989914-1774337400-1774346400@clermontgardenclub.org
SUMMARY:Clubhouse Reserved
DESCRIPTION:Clubhouse Reserved
URL:https://clermontgardenclub.org/events/clubhouse-reserved-160/
CATEGORIES:Clubhouse Reserved
END:VEVENT
BEGIN:VEVENT
DTSTART;TZID=America/New_York:20260325T080000
DTEND;TZID=America/New_York:20260325T170000
DTSTAMP:20260423T050214
CREATED:20250914T162914Z
LAST-MODIFIED:20250914T162914Z
UID:990144-1774425600-1774458000@clermontgardenclub.org
SUMMARY:Clubhouse Reserved
DESCRIPTION:Clubhouse Reserved.
URL:https://clermontgardenclub.org/events/clubhouse-reserved-213/
CATEGORIES:Clubhouse Reserved
END:VEVENT
BEGIN:VEVENT
DTSTART;TZID=America/New_York:20260325T173000
DTEND;TZID=America/New_York:20260325T203000
DTSTAMP:20260423T050214
CREATED:20250914T163446Z
LAST-MODIFIED:20250914T163446Z
UID:990152-1774459800-1774470600@clermontgardenclub.org
SUMMARY:Clubhouse Reserved
DESCRIPTION:Clubhouse Reserved.
URL:https://clermontgardenclub.org/events/clubhouse-reserved-215/
CATEGORIES:Clubhouse Reserved
END:VEVENT
BEGIN:VEVENT
DTSTART;TZID=America/New_York:20260331T073000
DTEND;TZID=America/New_York:20260331T100000
DTSTAMP:20260423T050214
CREATED:20250912T160721Z
LAST-MODIFIED:20250912T160809Z
UID:989916-1774942200-1774951200@clermontgardenclub.org
SUMMARY:Clubhouse Reserved
DESCRIPTION:Clubhouse Reserved
URL:https://clermontgardenclub.org/events/clubhouse-reserved-161/
CATEGORIES:Clubhouse Reserved
END:VEVENT
BEGIN:VEVENT
DTSTART;TZID=America/New_York:20260401T100000
DTEND;TZID=America/New_York:20260401T120000
DTSTAMP:20260423T050214
CREATED:20250912T163846Z
LAST-MODIFIED:20250912T163846Z
UID:989983-1775037600-1775044800@clermontgardenclub.org
SUMMARY:CGC Board of Directors Meeting
DESCRIPTION:
URL:https://clermontgardenclub.org/events/cgc-board-of-directors-meeting-19/
LOCATION:Clermont Garden Club\, 849 West Ave\, Clermont\, FL\, 34711\, United States
CATEGORIES:Meeting
END:VEVENT
BEGIN:VEVENT
DTSTART;TZID=America/New_York:20260401T173000
DTEND;TZID=America/New_York:20260401T203000
DTSTAMP:20260423T050214
CREATED:20250914T163017Z
LAST-MODIFIED:20250914T163017Z
UID:990146-1775064600-1775075400@clermontgardenclub.org
SUMMARY:Clubhouse Reserved
DESCRIPTION:Clubhouse Reserved.
URL:https://clermontgardenclub.org/events/clubhouse-reserved-214/
END:VEVENT
BEGIN:VEVENT
DTSTART;TZID=America/New_York:20260407T073000
DTEND;TZID=America/New_York:20260407T100000
DTSTAMP:20260423T050214
CREATED:20250912T160926Z
LAST-MODIFIED:20250912T160926Z
UID:989920-1775547000-1775556000@clermontgardenclub.org
SUMMARY:Clubhouse Reserved
DESCRIPTION:Clubhouse Reserved
URL:https://clermontgardenclub.org/events/clubhouse-reserved-163/
CATEGORIES:Clubhouse Reserved
END:VEVENT
BEGIN:VEVENT
DTSTART;VALUE=DATE:20260410
DTEND;VALUE=DATE:20260411
DTSTAMP:20260423T050214
CREATED:20250914T163151Z
LAST-MODIFIED:20250914T163151Z
UID:990148-1775779200-1775865599@clermontgardenclub.org
SUMMARY:Art Stroll Set Up
DESCRIPTION:
URL:https://clermontgardenclub.org/events/art-stroll-set-up-2/
CATEGORIES:Clubhouse Reserved
END:VEVENT
BEGIN:VEVENT
DTSTART;VALUE=DATE:20260411
DTEND;VALUE=DATE:20260412
DTSTAMP:20260423T050214
CREATED:20250914T163310Z
LAST-MODIFIED:20250914T163310Z
UID:990150-1775865600-1775951999@clermontgardenclub.org
SUMMARY:Art Stroll
DESCRIPTION:Free Community Event in collaboration with South Lake Art League.
URL:https://clermontgardenclub.org/events/art-stroll-2/
LOCATION:Clermont Garden Club\, 849 West Ave\, Clermont\, FL\, 34711\, United States
CATEGORIES:Clubhouse Reserved
END:VEVENT
BEGIN:VEVENT
DTSTART;TZID=America/New_York:20260412T110000
DTEND;TZID=America/New_York:20260412T180000
DTSTAMP:20260423T050214
CREATED:20260406T190218Z
LAST-MODIFIED:20260406T190218Z
UID:990868-1775991600-1776016800@clermontgardenclub.org
SUMMARY:Clubhouse Reserved
DESCRIPTION:
URL:https://clermontgardenclub.org/events/clubhouse-reserved-234/
END:VEVENT
BEGIN:VEVENT
DTSTART;TZID=America/New_York:20260413T090000
DTEND;TZID=America/New_York:20260413T120000
DTSTAMP:20260423T050214
CREATED:20250912T171920Z
LAST-MODIFIED:20250912T171920Z
UID:990029-1776070800-1776081600@clermontgardenclub.org
SUMMARY:CGC Garden Work Day
DESCRIPTION:
URL:https://clermontgardenclub.org/events/cgc-garden-work-day-17/
END:VEVENT
BEGIN:VEVENT
DTSTART;TZID=America/New_York:20260414T073000
DTEND;TZID=America/New_York:20260414T100000
DTSTAMP:20260423T050214
CREATED:20250912T160854Z
LAST-MODIFIED:20250912T160854Z
UID:989918-1776151800-1776160800@clermontgardenclub.org
SUMMARY:Clubhouse Reserved
DESCRIPTION:Clubhouse Reserved
URL:https://clermontgardenclub.org/events/clubhouse-reserved-162/
CATEGORIES:Clubhouse Reserved
END:VEVENT
BEGIN:VEVENT
DTSTART;TZID=America/New_York:20260415T090000
DTEND;TZID=America/New_York:20260415T120000
DTSTAMP:20260423T050214
CREATED:20250912T163605Z
LAST-MODIFIED:20260413T180630Z
UID:989979-1776243600-1776254400@clermontgardenclub.org
SUMMARY:CGC General Meeting Moved to April 22
DESCRIPTION:Social Time 9:30 AM \nMeeting starts promptly at 10:00 AM \nTheme: Pastel colors for Spring
URL:https://clermontgardenclub.org/events/cgc-general-meeting-14/
LOCATION:Clermont Garden Club\, 849 West Ave\, Clermont\, FL\, 34711\, United States
CATEGORIES:Meeting
END:VEVENT
BEGIN:VEVENT
DTSTART;TZID=America/New_York:20260415T173000
DTEND;TZID=America/New_York:20260415T203000
DTSTAMP:20260423T050214
CREATED:20260413T180445Z
LAST-MODIFIED:20260413T180445Z
UID:990894-1776274200-1776285000@clermontgardenclub.org
SUMMARY:Clubhouse Reserved
DESCRIPTION:
URL:https://clermontgardenclub.org/events/clubhouse-reserved-216/
END:VEVENT
BEGIN:VEVENT
DTSTART;TZID=America/New_York:20260419T130000
DTEND;TZID=America/New_York:20260419T190000
DTSTAMP:20260423T050214
CREATED:20260406T190347Z
LAST-MODIFIED:20260406T190347Z
UID:990870-1776603600-1776625200@clermontgardenclub.org
SUMMARY:Clubhouse Reserved
DESCRIPTION:
URL:https://clermontgardenclub.org/events/clubhouse-reserved-235/
END:VEVENT
BEGIN:VEVENT
DTSTART;TZID=America/New_York:20260421T073000
DTEND;TZID=America/New_York:20260421T100000
DTSTAMP:20260423T050214
CREATED:20250912T161000Z
LAST-MODIFIED:20250912T161000Z
UID:989922-1776756600-1776765600@clermontgardenclub.org
SUMMARY:Clubhouse Reserved
DESCRIPTION:Clubhouse Reserved
URL:https://clermontgardenclub.org/events/clubhouse-reserved-164/
CATEGORIES:Clubhouse Reserved
END:VEVENT
BEGIN:VEVENT
DTSTART;TZID=America/New_York:20260422T090000
DTEND;TZID=America/New_York:20260422T130000
DTSTAMP:20260423T050214
CREATED:20260413T175858Z
LAST-MODIFIED:20260413T175858Z
UID:990892-1776848400-1776862800@clermontgardenclub.org
SUMMARY:Garden Club General Meeting
DESCRIPTION:
URL:https://clermontgardenclub.org/events/garden-club-general-meeting/
END:VEVENT
BEGIN:VEVENT
DTSTART;TZID=America/New_York:20260425T120000
DTEND;TZID=America/New_York:20260425T190000
DTSTAMP:20260423T050214
CREATED:20260406T190504Z
LAST-MODIFIED:20260406T190504Z
UID:990872-1777118400-1777143600@clermontgardenclub.org
SUMMARY:Clubhouse Reserved
DESCRIPTION:
URL:https://clermontgardenclub.org/events/clubhouse-reserved-236/
END:VEVENT
BEGIN:VEVENT
DTSTART;TZID=America/New_York:20260426T100000
DTEND;TZID=America/New_York:20260426T160000
DTSTAMP:20260423T050214
CREATED:20260406T190053Z
LAST-MODIFIED:20260406T190053Z
UID:990866-1777197600-1777219200@clermontgardenclub.org
SUMMARY:Clubhouse Reserved
DESCRIPTION:
URL:https://clermontgardenclub.org/events/clubhouse-reserved-233/
END:VEVENT
BEGIN:VEVENT
DTSTART;TZID=America/New_York:20260427T090000
DTEND;TZID=America/New_York:20260427T120000
DTSTAMP:20260423T050214
CREATED:20250912T171955Z
LAST-MODIFIED:20250912T171955Z
UID:990031-1777280400-1777291200@clermontgardenclub.org
SUMMARY:CGC Garden Work Day
DESCRIPTION:
URL:https://clermontgardenclub.org/events/cgc-garden-work-day-18/
END:VEVENT
BEGIN:VEVENT
DTSTART;TZID=America/New_York:20260428T073000
DTEND;TZID=America/New_York:20260428T100000
DTSTAMP:20260423T050214
CREATED:20250912T161031Z
LAST-MODIFIED:20250912T161031Z
UID:989924-1777361400-1777370400@clermontgardenclub.org
SUMMARY:Clubhouse Reserved
DESCRIPTION:Clubhouse Reserved
URL:https://clermontgardenclub.org/events/clubhouse-reserved-165/
CATEGORIES:Clubhouse Reserved
END:VEVENT
BEGIN:VEVENT
DTSTART;VALUE=DATE:20260501
DTEND;VALUE=DATE:20260502
DTSTAMP:20260423T050214
CREATED:20250914T163953Z
LAST-MODIFIED:20250914T163953Z
UID:990160-1777593600-1777679999@clermontgardenclub.org
SUMMARY:Spring Garden Festival Set Up
DESCRIPTION:
URL:https://clermontgardenclub.org/events/spring-garden-festival-set-up/
LOCATION:Clermont Garden Club\, 849 West Ave\, Clermont\, FL\, 34711\, United States
CATEGORIES:Clubhouse Reserved
END:VEVENT
BEGIN:VEVENT
DTSTART;TZID=America/New_York:20260502T090000
DTEND;TZID=America/New_York:20260502T140000
DTSTAMP:20260423T050214
CREATED:20250914T164051Z
LAST-MODIFIED:20260313T171427Z
UID:990162-1777712400-1777730400@clermontgardenclub.org
SUMMARY:Spring Garden Festival
DESCRIPTION:The Clermont Garden Club is proud to announce our 8th Annual Spring Garden Festival! It is held on the grounds of the garden club and along the shoreline of Center Lake Park. Join us for home and garden inspired vendors from 9am – 2pm\, raffles in the clubhouse and lots to explore! Kids crafts\, too! \nContact us at clermontgardenclubinc@gmail.com for information about being a vendor and watch for updates on our Facebook page! \n			\n						Click to Reserve Vendor Booth\n					\n			\n						Click to Reserve for Food Trucks\n					\n			\n						Click to Download 2026 Vendor Packet
URL:https://clermontgardenclub.org/events/spring-garden-festival-2/
LOCATION:Clermont Garden Club\, 849 West Ave\, Clermont\, FL\, 34711\, United States
CATEGORIES:Event
ATTACH;FMTTYPE=image/jpeg:https://clermontgardenclub.org/wp-content/uploads/2024/02/SGF_2023_832x502_A.jpg
END:VEVENT
BEGIN:VEVENT
DTSTART;TZID=America/New_York:20260503T090000
DTEND;TZID=America/New_York:20260503T170000
DTSTAMP:20260423T050214
CREATED:20260406T191714Z
LAST-MODIFIED:20260406T191714Z
UID:990874-1777798800-1777827600@clermontgardenclub.org
SUMMARY:Clubhouse Reserved
DESCRIPTION:
URL:https://clermontgardenclub.org/events/clubhouse-reserved-237/
END:VEVENT
END:VCALENDAR