BEGIN:VCALENDAR
VERSION:2.0
PRODID:-//Clermont Garden Club - ECPv6.15.18//NONSGML v1.0//EN
CALSCALE:GREGORIAN
METHOD:PUBLISH
X-WR-CALNAME:Clermont Garden Club
X-ORIGINAL-URL:https://clermontgardenclub.org
X-WR-CALDESC:Events for Clermont Garden Club
REFRESH-INTERVAL;VALUE=DURATION:PT1H
X-Robots-Tag:noindex
X-PUBLISHED-TTL:PT1H
BEGIN:VTIMEZONE
TZID:America/New_York
BEGIN:DAYLIGHT
TZOFFSETFROM:-0500
TZOFFSETTO:-0400
TZNAME:EDT
DTSTART:20250309T070000
END:DAYLIGHT
BEGIN:STANDARD
TZOFFSETFROM:-0400
TZOFFSETTO:-0500
TZNAME:EST
DTSTART:20251102T060000
END:STANDARD
BEGIN:DAYLIGHT
TZOFFSETFROM:-0500
TZOFFSETTO:-0400
TZNAME:EDT
DTSTART:20260308T070000
END:DAYLIGHT
BEGIN:STANDARD
TZOFFSETFROM:-0400
TZOFFSETTO:-0500
TZNAME:EST
DTSTART:20261101T060000
END:STANDARD
BEGIN:DAYLIGHT
TZOFFSETFROM:-0500
TZOFFSETTO:-0400
TZNAME:EDT
DTSTART:20270314T070000
END:DAYLIGHT
BEGIN:STANDARD
TZOFFSETFROM:-0400
TZOFFSETTO:-0500
TZNAME:EST
DTSTART:20271107T060000
END:STANDARD
END:VTIMEZONE
BEGIN:VEVENT
DTSTART;TZID=America/New_York:20260422T090000
DTEND;TZID=America/New_York:20260422T130000
DTSTAMP:20260422T051105
CREATED:20260413T175858Z
LAST-MODIFIED:20260413T175858Z
UID:990892-1776848400-1776862800@clermontgardenclub.org
SUMMARY:Garden Club General Meeting
DESCRIPTION:
URL:https://clermontgardenclub.org/events/garden-club-general-meeting/
END:VEVENT
BEGIN:VEVENT
DTSTART;TZID=America/New_York:20260425T120000
DTEND;TZID=America/New_York:20260425T190000
DTSTAMP:20260422T051105
CREATED:20260406T190504Z
LAST-MODIFIED:20260406T190504Z
UID:990872-1777118400-1777143600@clermontgardenclub.org
SUMMARY:Clubhouse Reserved
DESCRIPTION:
URL:https://clermontgardenclub.org/events/clubhouse-reserved-236/
END:VEVENT
BEGIN:VEVENT
DTSTART;TZID=America/New_York:20260426T100000
DTEND;TZID=America/New_York:20260426T160000
DTSTAMP:20260422T051105
CREATED:20260406T190053Z
LAST-MODIFIED:20260406T190053Z
UID:990866-1777197600-1777219200@clermontgardenclub.org
SUMMARY:Clubhouse Reserved
DESCRIPTION:
URL:https://clermontgardenclub.org/events/clubhouse-reserved-233/
END:VEVENT
BEGIN:VEVENT
DTSTART;TZID=America/New_York:20260427T090000
DTEND;TZID=America/New_York:20260427T120000
DTSTAMP:20260422T051105
CREATED:20250912T171955Z
LAST-MODIFIED:20250912T171955Z
UID:990031-1777280400-1777291200@clermontgardenclub.org
SUMMARY:CGC Garden Work Day
DESCRIPTION:
URL:https://clermontgardenclub.org/events/cgc-garden-work-day-18/
END:VEVENT
BEGIN:VEVENT
DTSTART;TZID=America/New_York:20260428T073000
DTEND;TZID=America/New_York:20260428T100000
DTSTAMP:20260422T051105
CREATED:20250912T161031Z
LAST-MODIFIED:20250912T161031Z
UID:989924-1777361400-1777370400@clermontgardenclub.org
SUMMARY:Clubhouse Reserved
DESCRIPTION:Clubhouse Reserved
URL:https://clermontgardenclub.org/events/clubhouse-reserved-165/
CATEGORIES:Clubhouse Reserved
END:VEVENT
END:VCALENDAR